BEGIN:VCALENDAR
VERSION:2.0
PRODID:-//Patriot Guard Riders - ECPv5.6.0//NONSGML v1.0//EN
CALSCALE:GREGORIAN
METHOD:PUBLISH
X-WR-CALNAME:Patriot Guard Riders
X-ORIGINAL-URL:https://www.patriotguard.org
X-WR-CALDESC:Events for Patriot Guard Riders
BEGIN:VTIMEZONE
TZID:America/New_York
BEGIN:DAYLIGHT
TZOFFSETFROM:-0500
TZOFFSETTO:-0400
TZNAME:EDT
DTSTART:20210314T070000
END:DAYLIGHT
BEGIN:STANDARD
TZOFFSETFROM:-0400
TZOFFSETTO:-0500
TZNAME:EST
DTSTART:20211107T060000
END:STANDARD
END:VTIMEZONE
BEGIN:VEVENT
DTSTART;VALUE=DATE:20210514
DTEND;VALUE=DATE:20210515
DTSTAMP:20210513T210056
CREATED:20210512T110437Z
LAST-MODIFIED:20210512T110437Z
UID:577031-1620950400-1621036799@www.patriotguard.org
SUMMARY:Horace Roark Key
DESCRIPTION:Honor Mission\nHorace Roark Key\, Retired\nUSA – Vietnam\nRadcliff\, Kentucky – 05-14-21\n\n\n\nABOUT THE MISSION: \nWe have been asked to stand in honor of SFC Horace Roark Key.\n\n\nPRIMARY STAGING DETAILS: 05-14-21 \nStaging Time: 10:30 AM  EST\n \nNelson-Edelen-Bennett Funeral Home\n2072 South Dixie Boulevard\nRadcliff\, Kentucky 40160\n\n\nRide Captain: \nDon Gilmore\ndgilmore@bbtel.com\n\nAsst: Danny Johnson\, roughriverdan@yahoo.com\n\n\nSpecial Instructions: \n**ALL TIMES: Eastern Time**\n10:30 Stage and Stake Flags\n11:50 Render Final Salute\n12:00 Service Begins\nEscort to: N. Hardin Memorial Gardens\, 1100 S. Logsdon Pkwy\, Radcliff\, KY 40160.\nTHE ASSIGNED RIDE CAPTAIN WILL CLARIFY SPECIFIC FUNERAL HOME REQUIREMENTS TO COMPLY WITH COVID19 RULES. RIDE\n\n\nFlags & Water:\nFlags will be provided\nIf you have large bike flags\, please bring them.\nWater WILL NOT be provided\, please bring your own.\n\n\nSubmitted By: James Johnson \nPosition: Kentucky Ride Captain \n\nNote: You do not have to own/ride a motorcycle or be a veteran to join\, and membership is Free. The only requirement is RESPECT! To subscribe to receive mission notices\, log into the National Site and click on the Members tab at the top. Select the Subscribe to PGR Missions option.\n Print This Page
URL:https://www.patriotguard.org/mission/horace-roark-key/
CATEGORIES:Honor Mission
END:VEVENT
END:VCALENDAR