BEGIN:VCALENDAR
VERSION:2.0
PRODID:-//Patriot Guard Riders - ECPv5.3.2.1//NONSGML v1.0//EN
CALSCALE:GREGORIAN
METHOD:PUBLISH
X-WR-CALNAME:Patriot Guard Riders
X-ORIGINAL-URL:https://www.patriotguard.org
X-WR-CALDESC:Events for Patriot Guard Riders
BEGIN:VTIMEZONE
TZID:America/New_York
BEGIN:DAYLIGHT
TZOFFSETFROM:-0500
TZOFFSETTO:-0400
TZNAME:EDT
DTSTART:20190310T070000
END:DAYLIGHT
BEGIN:STANDARD
TZOFFSETFROM:-0400
TZOFFSETTO:-0500
TZNAME:EST
DTSTART:20191103T060000
END:STANDARD
END:VTIMEZONE
BEGIN:VEVENT
DTSTART;VALUE=DATE:20190617
DTEND;VALUE=DATE:20190618
DTSTAMP:20210405T020828
CREATED:20190613T190846Z
LAST-MODIFIED:20190613T191133Z
UID:164703-1560729600-1560815999@www.patriotguard.org
SUMMARY:Honoring Their Service Escort
DESCRIPTION:HOTH Mission\nHonoring Their Service Escort\nCentral\, South Carolina – 06-17-19\n\n\n\nABOUT THE MISSION: \nThe Patriot Guard Riders have been requested to lead the ride for Honoring their Service. We will honor that request. We will stage offsite and ride in as a group and will ride the escort as a group.\n\n\nPRIMARY STAGING DETAILS: 06-17-19 \nStaging Time: 11:00 am  \nCannon Memorial Baptist Church\n120 Pepper Street\nCentral\, South Carolina 29630\nhttps://goo.gl/maps/3ocTr7zvqJ5WRFDz7\n\n\nRide Captain: \nIndia Rackley\n indiarackley@gmail.com\n864-704-2132\n\n\nSpecial Instructions: \nFollowing the ride brief we will move to Southern Wesleyan University to stage for the escort. Please arrive fueled and ready to roll. If you have big flags\, fly them. Patriotic attire is encouraged. The escort will leave there at approximately 1:35 PM. There will be a thank you cookout afterwards at the Lighthouse Restaurant.\n\n\nFlags & Water:\nFlags will not be provided\nIf you have large bike flags\, please bring them.\nWater WILL NOT be provided\, please bring your own.\n\n\nSubmitted By: Sam McGinnis \nPosition: South Carolina Assistant State Captain \n\nNote: You do not have to own/ride a motorcycle or be a veteran to join\, and membership is Free. The only requirement is RESPECT! To subscribe to receive mission notices\, log into the National Site and click on the Members tab at the top. Select the Subscribe to PGR Missions option.\n Print This Page
URL:https://www.patriotguard.org/mission/honoring-their-service-escort/
CATEGORIES:HOTH Mission
END:VEVENT
END:VCALENDAR