BEGIN:VCALENDAR
VERSION:2.0
PRODID:-//Patriot Guard Riders - ECPv5.3.2.1//NONSGML v1.0//EN
CALSCALE:GREGORIAN
METHOD:PUBLISH
X-WR-CALNAME:Patriot Guard Riders
X-ORIGINAL-URL:https://www.patriotguard.org
X-WR-CALDESC:Events for Patriot Guard Riders
BEGIN:VTIMEZONE
TZID:America/New_York
BEGIN:DAYLIGHT
TZOFFSETFROM:-0500
TZOFFSETTO:-0400
TZNAME:EDT
DTSTART:20170312T070000
END:DAYLIGHT
BEGIN:STANDARD
TZOFFSETFROM:-0400
TZOFFSETTO:-0500
TZNAME:EST
DTSTART:20171105T060000
END:STANDARD
END:VTIMEZONE
BEGIN:VEVENT
DTSTART;TZID=America/New_York:20171107T064500
DTEND;TZID=America/New_York:20171107T084500
DTSTAMP:20210406T025126
CREATED:20171107T114500Z
LAST-MODIFIED:20191201T031015Z
UID:314519-1510037100-1510044300@www.patriotguard.org
SUMMARY:Honoring Military Veterans
DESCRIPTION:Honoring Military Veterans\nMolino\, Florida – 07 Nov 2017\n\n\n[HR][/HR]\nABOUT THE MISSION: \n\nErnest Ward Middle School Staff and  Students have requested that the Patriot Guard stand in honor with other  military veterans to be recognized and honored. Patriot Guard will form  a flag line at the entrance to the school prior to the event\, observe  the assembly as guests and represent each branch with the service flag  during the playing of the Armed Services Medley.\n\n\n\nPRIMARY STAGING DETAILS:  07 Nov 2017\nPrimary Staging Time: 0745 A.M. \n\nTom Thumb\, 7331 US-29\nMolino\, Florida –\n\n\nRide Captain: \n\nBryan Stiers\n757-288-5131\n\n\nSpecial Instructions: \n\n0805 – Safety briefing\n0815 – Kick Stands Up\n0845 – Arrive Ernest Ward Middle School\n0900 – Assembly in the Gym \nIt is recommended that you ride with long sleeve shirts\, long trousers\,  long fingered gloves\, DOT Approved helmets\, leather foot wear covering  the ankles and appropriate eye protection.\n \n\nFlags & Water: \n\nFlags Will Be Provided\nLarge Bike Flags will NOT be needed.\nWater will be provided.\n\nSubmitted By: Ray Doyle\nPosition: Assistant State Captain\n[HR][/HR]Note:\nYou do not have to own/ride a motorcycle or be a Veteran to join and membership is Free. The only requirement is RESPECT! To join\, simply go to www.PatriotGuard.org and click on Register. Membership is Free. \nTo subscribe to receive mission notices\, log into the National Site and click on the Mission Tab at the top. Select the Subscribe to Missions option.
URL:https://www.patriotguard.org/mission/honoring-military-veterans-2/
END:VEVENT
END:VCALENDAR