BEGIN:VCALENDAR
VERSION:2.0
PRODID:-//Patriot Guard Riders - ECPv5.6.0//NONSGML v1.0//EN
CALSCALE:GREGORIAN
METHOD:PUBLISH
X-WR-CALNAME:Patriot Guard Riders
X-ORIGINAL-URL:https://www.patriotguard.org
X-WR-CALDESC:Events for Patriot Guard Riders
BEGIN:VTIMEZONE
TZID:America/New_York
BEGIN:DAYLIGHT
TZOFFSETFROM:-0500
TZOFFSETTO:-0400
TZNAME:EDT
DTSTART:20160313T070000
END:DAYLIGHT
BEGIN:STANDARD
TZOFFSETFROM:-0400
TZOFFSETTO:-0500
TZNAME:EST
DTSTART:20161106T060000
END:STANDARD
END:VTIMEZONE
BEGIN:VEVENT
DTSTART;TZID=America/New_York:20160616T090000
DTEND;TZID=America/New_York:20160616T110000
DTSTAMP:20210513T142515
CREATED:20160616T130000Z
LAST-MODIFIED:20191201T025924Z
UID:302182-1466067600-1466074800@www.patriotguard.org
SUMMARY:Honor Mission – Gary James Kline\, 62\, USN
DESCRIPTION:​AT2 Gary James Kline\, USN\, Canton\, GA\, Thursday\, 16 JUN 16 \n\nThe Patriot Guard Riders of Georgia has received a request from the family of Petty Officer Gary Kline\, to be present and stand in honor and respect for their HERO during his inurnment service at Georgia National Cemetery\, Canton\, GA.   Petty Officer Kline stood for us and so now we shall be honored to stand for him.  AT2 Kline served our great nation in the U.S. Navy serving aboard the USS AMERICA (CV-66) and the USS INDIANAPOLIS  (CA-35) providing support for operations in Vietnam.  He entered the Navy in 1972 and served until his honorble discharge in June 1982.  PO2 Kline earned the Good Conduct Medal (2)\, National Defense Service Medal\, Sea Service Ribbon (2)\, and the Navy Battle Efficiency “E” Ribbon.   Mr. Kline held the level of Master Mason with the Euclid Masonic Lodge #599\, in Cleveland\, Ohio.  In his spare time he enjoyed sailing on a nearby lake.   Petty Officer Kline stood for us\, please make your plans to join us this Thursday\, June 16\, 2016 to stand for him. \n\nThis will be a flag line only mission at Georgia National Cemetery\, Canton\, GA. \n\nStaging:  NLT 10:15 AM at the PIC building for the 11:00 AM service \n\nGeorgia National Cemetery\n1080 Scott Hudgins Drive\nCanton\, GA 30114 \n\nWeather forecast is a temperature around 94 degrees\, partly cloudy\, with 20% rain chance.   Please plan accordingly and remember to hydrate. \n\nRCIC\nByron “Gimpy” Hall\nbplayer46@gmail.com\n770-883-8175
URL:https://www.patriotguard.org/mission/honor-mission-gary-james-kline-62-usn/
END:VEVENT
END:VCALENDAR