BEGIN:VCALENDAR
VERSION:2.0
PRODID:-//Patriot Guard Riders - ECPv5.3.2.1//NONSGML v1.0//EN
CALSCALE:GREGORIAN
METHOD:PUBLISH
X-WR-CALNAME:Patriot Guard Riders
X-ORIGINAL-URL:https://www.patriotguard.org
X-WR-CALDESC:Events for Patriot Guard Riders
BEGIN:VTIMEZONE
TZID:America/New_York
BEGIN:DAYLIGHT
TZOFFSETFROM:-0500
TZOFFSETTO:-0400
TZNAME:EDT
DTSTART:20170312T070000
END:DAYLIGHT
BEGIN:STANDARD
TZOFFSETFROM:-0400
TZOFFSETTO:-0500
TZNAME:EST
DTSTART:20171105T060000
END:STANDARD
END:VTIMEZONE
BEGIN:VEVENT
DTSTART;TZID=America/New_York:20170727T131500
DTEND;TZID=America/New_York:20170727T151500
DTSTAMP:20210404T125518
CREATED:20170727T171500Z
LAST-MODIFIED:20191201T025855Z
UID:301620-1501161300-1501168500@www.patriotguard.org
SUMMARY:Honor Mission:  Bruce Frank D'Agostino\, Veteran\, USAF - Vietnam
DESCRIPTION:Bruce Frank D’Agostino\, Veteran\, USAF – Vietnam\, Roswell\, Georgia – 27 Jul 2017 \nABOUT THE MISSION: \nSadly\, I must report that America has lost another Vietnam War Hero. The family of Bruce Frank D’Agostino has requested that we attend and stand a flag line at his memorial service on Thursday\, 27 July ’17 and it will be our honor to do so.\nSgt. D’Agostino enlisted in the USAF and served as a crypto-teletype technician. He was sent to many locations to repair those machines throughout Vietnam.\nHe was also a talented photographer and spent his off-duty time traveling up-country\, taking photos of the troops in action. He would later sell some of those photos to AP and UPI.\nAfter his service\, he worked in construction in areas like the Atlanta 1996 Olympics and in Chicago developing library prototypes.\nThis will be a flag line only mission with military honors. \nPRIMARY STAGING DETAILS: 27 Jul 2017 \nPrimary Staging Time: 1:15 P.M.\nRoswell River Landing\n245 Azalea Dr.\nRoswell\, Georgia – 30075\nhttps://www.google.com/maps/place/24…2464\,222m/data \nRide Captain:\nClete Simpson\ncsimps15@comcast.net\n770-364-6266 \nSpecial Instructions:\nAttend and feel the cool breeze off the Chattahoochee River. Stage at 1:15 for the 2:00 PM service. Weather permitting the service will be outside the building. Parking is limited. \nFlags & Water:\nFlags Will Be Provided\nLarge Bike Flags will NOT be needed.\nWater will be provided. \nSubmitted By: Clete Simpson\nPosition: Ride Captain
URL:https://www.patriotguard.org/mission/honor-mission-bruce-frank-dagostino-veteran-usaf-vietnam/
END:VEVENT
END:VCALENDAR