BEGIN:VCALENDAR
VERSION:2.0
PRODID:-//Patriot Guard Riders - ECPv5.6.0//NONSGML v1.0//EN
CALSCALE:GREGORIAN
METHOD:PUBLISH
X-WR-CALNAME:Patriot Guard Riders
X-ORIGINAL-URL:https://www.patriotguard.org
X-WR-CALDESC:Events for Patriot Guard Riders
BEGIN:VTIMEZONE
TZID:America/New_York
BEGIN:DAYLIGHT
TZOFFSETFROM:-0500
TZOFFSETTO:-0400
TZNAME:EDT
DTSTART:20160313T070000
END:DAYLIGHT
BEGIN:STANDARD
TZOFFSETFROM:-0400
TZOFFSETTO:-0500
TZNAME:EST
DTSTART:20161106T060000
END:STANDARD
END:VTIMEZONE
BEGIN:VEVENT
DTSTART;TZID=America/New_York:20160716T090000
DTEND;TZID=America/New_York:20160716T110000
DTSTAMP:20210512T121449
CREATED:20160716T130000Z
LAST-MODIFIED:20191201T025923Z
UID:302167-1468659600-1468666800@www.patriotguard.org
SUMMARY:Honor Mission – Andrew Lawson Walter\, 70\, USN\, Vietnam
DESCRIPTION:RD3 Andrew (Andy) Lawson Walter\, USN\, Vietnam\, Ellijay\, GA\, Saturday\, 16 JUL 16 \n\nThe family of Radarman Third Class Andy Walter have requested the Patriot Guard Riders of Georgia\, be present during his celebration of life service at the First Baptist Church of Ellijay.   It will be our honor to fulfill that request and stand a silent flag line of respect and honor.  Petty Officer Walter served his country in the U.S. Navy serving aboard the USS WILTSIE (DD-716) from September 1965 until his release from active duty in September 1969.  He earned the Vietnam Service Medal\, Vietnam Campaign Medal\, and the National Defense Service Medal.    A brother-in-law of Mr. Walter is a South Alabama PGR member. \n\nThis will be a flag line only mission during the visitation and service. \n\nStaging:  NLT 9:30 AM \n\nFirst Baptist Church of Ellijay\n164 Dalton Street\nEllijay\, Georgia 30540 \n\nStage in the large parking lot that is bordered to the east by South Sand Street and to the west by North Gilmer Street. \n\nWe will stand a silent flag line during the visitation from 10:00 AM until 11:00 AM.  We will then move our flag line into the church and provide a silent flag line during the approximate 1 hour service.  Military honors will be given by the U.S. Navy Honor Guard during the service.  After the rendering of military honors we will quietly exit the church. \n\nCurrent weather forecast in Ellijay calls for high temperature around 91 degrees with 60% rain chance.   Due to flag line only\, cages might be the better choice.   Please plan accordingly and remember to hydrate. \n\nRCIC\nByron “Gimpy” Hall\nbplayer46@gmail.com\n770-883-8175
URL:https://www.patriotguard.org/mission/honor-mission-andrew-lawson-walter-70-usn-vietnam/
END:VEVENT
END:VCALENDAR