BEGIN:VCALENDAR
VERSION:2.0
PRODID:-//Patriot Guard Riders - ECPv5.3.2.1//NONSGML v1.0//EN
CALSCALE:GREGORIAN
METHOD:PUBLISH
X-WR-CALNAME:Patriot Guard Riders
X-ORIGINAL-URL:https://www.patriotguard.org
X-WR-CALDESC:Events for Patriot Guard Riders
BEGIN:VTIMEZONE
TZID:America/New_York
BEGIN:DAYLIGHT
TZOFFSETFROM:-0500
TZOFFSETTO:-0400
TZNAME:EDT
DTSTART:20180311T070000
END:DAYLIGHT
BEGIN:STANDARD
TZOFFSETFROM:-0400
TZOFFSETTO:-0500
TZNAME:EST
DTSTART:20181104T060000
END:STANDARD
END:VTIMEZONE
BEGIN:VEVENT
DTSTART;VALUE=DATE:20180906
DTEND;VALUE=DATE:20180907
DTSTAMP:20210406T033327
CREATED:20180904T223944Z
LAST-MODIFIED:20180904T223944Z
UID:133230-1536192000-1536278399@www.patriotguard.org
SUMMARY:Honor Flight Welcome Home
DESCRIPTION:HOTH Mission\nHonor Flight Welcome Home\n–\nOrlando\, Florida – 09-06-18\n\n\n\n\nABOUT THE MISSION: \nThe Patriot Guard Riders have the honor of standing a flag line and welcome home our heroes of the “Greatest Generation” from their trip back from Washington\, DC after visiting the various war monuments and witnessing the changing of the guard at the Tomb of the Unknowns at Arlington National Cemetery. This flight will have several WWII\, Korean & Vietnam War veterans with their escorts and medical staff.\n\n\nPRIMARY STAGING DETAILS: 09-06-18 \nStaging Time: 9:30 PM\n \nFast Park & Relax\n7870 N. Frontage Rd\nOrlando\, Florida 32812\nMap\n\n\nRide Captain: \nBernie “Dutchman” Conner\nbc17004@aol.com\n407-415-6162\n\n\nSpecial Instructions: \nFast Park and Relax is offering free parking and free shuttle service for those who greet the Honor Flights at the Orlando Int’l Airport. Bring your flags\, banners and signs to help welcome our humble WWII\, Korean & Vietnam War Heroes as they return from Washington\, DC. Please follow the thread for further updates as they become available.There are 62 Hero’s on this flight.\nBrief: 9:45 pm.\nArrival: 10:10 pm.\n\n\nFlags & Water:\nFlags will not be provided\nLarge Bike Flags will NOT be needed.\nWater WILL NOT be provided\, please bring your own.\n\n\n\nSubmitted By: Bernie Conner \nPosition: Florida Assistant State Captain \n\nNote: You do not have to own/ride a motorcycle or be a veteran to join\, and membership is Free. The only requirement is RESPECT! To subscribe to receive mission notices\, log into the National Site and click on the Members tab at the top. Select the Subscribe to PGR Missions option.\n Print This Page
URL:https://www.patriotguard.org/mission/honor-flight-welcome-home-8/
CATEGORIES:HOTH Mission
END:VEVENT
END:VCALENDAR