BEGIN:VCALENDAR
VERSION:2.0
PRODID:-//Patriot Guard Riders - ECPv5.3.2.1//NONSGML v1.0//EN
CALSCALE:GREGORIAN
METHOD:PUBLISH
X-WR-CALNAME:Patriot Guard Riders
X-ORIGINAL-URL:https://www.patriotguard.org
X-WR-CALDESC:Events for Patriot Guard Riders
BEGIN:VTIMEZONE
TZID:America/New_York
BEGIN:DAYLIGHT
TZOFFSETFROM:-0500
TZOFFSETTO:-0400
TZNAME:EDT
DTSTART:20170312T070000
END:DAYLIGHT
BEGIN:STANDARD
TZOFFSETFROM:-0400
TZOFFSETTO:-0500
TZNAME:EST
DTSTART:20171105T060000
END:STANDARD
END:VTIMEZONE
BEGIN:VEVENT
DTSTART;TZID=America/New_York:20171002T200000
DTEND;TZID=America/New_York:20171002T220000
DTSTAMP:20210404T195810
CREATED:20171003T000000Z
LAST-MODIFIED:20191201T032631Z
UID:329896-1506974400-1506981600@www.patriotguard.org
SUMMARY:Honor Flight Escort\, Veteran - WWII\, Korea\, Vietnam
DESCRIPTION:Central Missouri Honor Flight Escort\, Veteran\nUSA\, USN\, USMC\, USCG\, USAF  – WWII\, Korea\, Vietnam\nKingdom City\, Missouri – 02 Oct 2017\n\n\n[HR][/HR]\nABOUT THE MISSION: \n\nThis is a Monday night ride. We will  proceed to the on ramp and as the buses go by\, we will pass them\, and  lead them back to the hotel. \nThere will be Police escort to the hotel and this is a night ride at  Highway speed the estimated time of arrival to Kingdom City is 9:30 pm. \nFor those volunteers\, guardians\, Honor Flight Riders and others  supporting The Honor Flight\, we respectfully request that you make hotel  reservations at the nearby Holiday Inn Express or other local hotels.  Courtyard Marriott is only able to offer a limited number of discounted  rooms for our traveling veterans. Recently\, we have learned that a  number of you have been reserving rooms from this room block\,  innocently\, not knowing that there are only 10-15 of those discounted  rooms available for most flights. Veterans designated for this flight  will not be told of our recommendation until their pre-flight briefing  on Sept. 23rd and that those veterans driving some distance should stay  at the hotel prior to and after the flight The result is that discounted  room availability\, intended for veterans\, is no longer available by  then. We appreciate your understanding\n \n\nPRIMARY STAGING DETAILS:  02 Oct 2017\nPrimary Staging Time: 8:00 P.M. \n\nFire Fighters Memorial\nI-70 & Hwy 54\n5584 Dunn Drive\nKingdom City\, Missouri – 65262\n\n\nRide Captain: \n\nReed Hickam\n573-488-2158\n\n\nSpecial Instructions:\n\nFlags & Water: \n\nFlags Will NOT Be Provided\, Please Bring Your Own.\nLarge Bike Flags will NOT be needed.\nWater will be provided.\n\n\nSubmitted By: Reed Hickam\nPosition: Ride Captain\n[HR][/HR]Note:\nYou do not have to own/ride a motorcycle or be a Veteran to join and membership is Free. The only requirement is RESPECT! To join\, simply go to www.PatriotGuard.org and click on Register. Membership is Free. \nTo subscribe to receive mission notices\, log into the National Site and click on the Mission Tab at the top. Select the Subscribe to Missions option.
URL:https://www.patriotguard.org/mission/honor-flight-escort-veteran-wwii-korea-vietnam/
END:VEVENT
END:VCALENDAR