BEGIN:VCALENDAR
VERSION:2.0
PRODID:-//Patriot Guard Riders - ECPv5.3.2.1//NONSGML v1.0//EN
CALSCALE:GREGORIAN
METHOD:PUBLISH
X-WR-CALNAME:Patriot Guard Riders
X-ORIGINAL-URL:https://www.patriotguard.org
X-WR-CALDESC:Events for Patriot Guard Riders
BEGIN:VTIMEZONE
TZID:America/New_York
BEGIN:DAYLIGHT
TZOFFSETFROM:-0500
TZOFFSETTO:-0400
TZNAME:EDT
DTSTART:20180311T070000
END:DAYLIGHT
BEGIN:STANDARD
TZOFFSETFROM:-0400
TZOFFSETTO:-0500
TZNAME:EST
DTSTART:20181104T060000
END:STANDARD
END:VTIMEZONE
BEGIN:VEVENT
DTSTART;TZID=America/New_York:20180505T200000
DTEND;TZID=America/New_York:20180505T220000
DTSTAMP:20210402T022256
CREATED:20180506T000000Z
LAST-MODIFIED:20200714T111039Z
UID:316233-1525550400-1525557600@www.patriotguard.org
SUMMARY:Honor Flight
DESCRIPTION:HOTH Mission\nHonor Flight\nBrunswick\, Georgia – 05 May 2018\n\n\nABOUT THE MISSION: \n\nIt is time for the fourth Honor Flight from Brunswick\, GA to Washington\, DC to take our WW II\, Korean and Vietnam veterans to visit the memorials and given time to reflect. It is a day of celebration and camaraderie. The Patriot Guard Riders will stand a flag line at the Brunswick Golden Isles Airport to welcome the veterans back home Saturday evening. \nEveryone is encouraged to join us in honoring and showing our support for the “Greatest Generation”. \n\nPRIMARY STAGING DETAILS: 05 May 2018\nPrimary Staging Time: 8:00 P.M. \nBrunswick Golden Isles Airport\n1000 Jetport Road\nBrunswick\, Georgia – 31525\nRide Captain: \nThomas “tommy b” Buchanan\ntommycvn65@gmail.com\n(912) 674-1996\nSpecial Instructions: \nThere will be designated motorcycle parking in front of the airport.\nFlags & Water: \nFlags Will Be Provided\nIf you have large bike flags\, please bring them.\nWater WILL NOT be provided\, please bring your own.\n  \n\nSubmitted By: thomas buchanan\nPosition: Ride Captain \n\nNote:\nYou do not have to own/ride a motorcycle or be a Veteran to join and membership is Free. The only requirement is RESPECT! To join\, simply go to www.PatriotGuard.org and click on Register. Membership is Free. \nTo subscribe to receive mission notices\, log into the National Site and click on the Mission Tab at the top. Select the Subscribe to Missions option.
URL:https://www.patriotguard.org/mission/honor-flight-9-2/
CATEGORIES:HOTH Mission
END:VEVENT
END:VCALENDAR