BEGIN:VCALENDAR
VERSION:2.0
PRODID:-//Patriot Guard Riders - ECPv5.3.2.1//NONSGML v1.0//EN
CALSCALE:GREGORIAN
METHOD:PUBLISH
X-WR-CALNAME:Patriot Guard Riders
X-ORIGINAL-URL:https://www.patriotguard.org
X-WR-CALDESC:Events for Patriot Guard Riders
BEGIN:VTIMEZONE
TZID:America/New_York
BEGIN:DAYLIGHT
TZOFFSETFROM:-0500
TZOFFSETTO:-0400
TZNAME:EDT
DTSTART:20190310T070000
END:DAYLIGHT
BEGIN:STANDARD
TZOFFSETFROM:-0400
TZOFFSETTO:-0500
TZNAME:EST
DTSTART:20191103T060000
END:STANDARD
END:VTIMEZONE
BEGIN:VEVENT
DTSTART;VALUE=DATE:20190411
DTEND;VALUE=DATE:20190412
DTSTAMP:20210405T192854
CREATED:20190407T213654Z
LAST-MODIFIED:20190407T213654Z
UID:156352-1554940800-1555027199@www.patriotguard.org
SUMMARY:Honor Flight
DESCRIPTION:HOTH Mission\nHonor Flight\nEmporia\, Kansas – 04-11-19\n\n\n\n\nABOUT THE MISSION: \nSouthern Coffey County High School is again having an Honor Flight composed of 24 Veterans going on this trip\, 2 WWII\, one is 98 years old!! One Korean\, 20 Vietnam\, and one Desert Storm who is accompanying his father to Washington\, DC. They are traveling to DC on Thursday\, April 11th and returning on Friday\, April 12th. Part 2 Friday April 13th. Please check MO forum for details on the welcome home.\n\n\nPRIMARY STAGING DETAILS: 04-11-19 \nStaging Time: 02:00 a.m. \nAmerican Legion\n2921 W 12th Ave\nEmporia\, Kansas 66801\n\n\nRide Captain: \nDebi Fuller\nfuquari@sbcglobal.net\n\n\nSpecial Instructions: \nKick Stands Up 2:15 AM to head to the Wyatt Earp Inn 2745 Hwy 75\, Lebo Kansas\, better known as the motel at BETO Junction.\nIf you are coming from other areas meet us there at 2:45 AM to set up a flag line.\n\n\nFlags & Water:\nFlags will be provided\nLarge Bike Flags will NOT be needed.\nWater WILL NOT be provided\, please bring your own.\n\n\n\nSubmitted By: Debi Fuller \nPosition: Kansas Ride Captain \n\nNote: You do not have to own/ride a motorcycle or be a veteran to join\, and membership is Free. The only requirement is RESPECT! To subscribe to receive mission notices\, log into the National Site and click on the Members tab at the top. Select the Subscribe to PGR Missions option.\n Print This Page
URL:https://www.patriotguard.org/mission/honor-flight-17/
CATEGORIES:HOTH Mission
END:VEVENT
END:VCALENDAR