BEGIN:VCALENDAR
VERSION:2.0
PRODID:-//Patriot Guard Riders - ECPv5.3.2.1//NONSGML v1.0//EN
CALSCALE:GREGORIAN
METHOD:PUBLISH
X-WR-CALNAME:Patriot Guard Riders
X-ORIGINAL-URL:https://www.patriotguard.org
X-WR-CALDESC:Events for Patriot Guard Riders
BEGIN:VTIMEZONE
TZID:America/New_York
BEGIN:DAYLIGHT
TZOFFSETFROM:-0500
TZOFFSETTO:-0400
TZNAME:EDT
DTSTART:20190310T070000
END:DAYLIGHT
BEGIN:STANDARD
TZOFFSETFROM:-0400
TZOFFSETTO:-0500
TZNAME:EST
DTSTART:20191103T060000
END:STANDARD
END:VTIMEZONE
BEGIN:VEVENT
DTSTART;VALUE=DATE:20190911
DTEND;VALUE=DATE:20190912
DTSTAMP:20210401T121753
CREATED:20190909T234459Z
LAST-MODIFIED:20190909T234459Z
UID:173282-1568160000-1568246399@www.patriotguard.org
SUMMARY:Honor and Remember our Country Patriots Day
DESCRIPTION:HOTH Mission\nHonor and Remember our Country Patriots Day \, Active Duty\, POW/MIA\, Retired\, KIA\, Veteran\, PGR\nUSA USMC USN USAF USCG – WW II\, Korea\, Vietnam\, GW/ODS\, WoT\, Lebanon/Grenada\, Panama\nSahuarita\, Arizona – 09-11-19\n\n\n\nABOUT THE MISSION: \nThe students and faculity of Anza Trail School located in Sahuarita\, Arizona each year have a Patriot Day Celebration. The students learn of the history of this great nation we live in and this year they again choose to show their appreciation for the men and women in uniform who tirelessly work to keep this great nation safe both on the home front and abroad and in all wars that have been fought to ensure our freedoms of today.\nThe Patriot Guard Riders have been invited to stand a flag line during their ceremony and it will be an honor to be attending this presentation from our younger generation.\n\n\nPRIMARY STAGING DETAILS: 09-11-19 \nStaging Time: 7:00 AM\n \nPanda Express Parking lot\, east side of the restaurant\n750 W. Sahuarita Road\nSahuarita\, Arizona 85629\n\n\nRide Captain: \nKIP\n520-241-7163\n\n\nSpecial Instructions: \nBriefing:  7:30 AM\nKSU:  7:45 AM\nFlag Captain: DaFlagGuy\, 520-241-4530\n\n\nFlags & Water:\nFlags will be provided\nIf you have large bike flags\, please bring them.\nWater will be provided.\n\n\n\nSubmitted By: Robi Campbell \nPosition: Arizona Assistant State Captain \n\nNote: You do not have to own/ride a motorcycle or be a veteran to join\, and membership is Free. The only requirement is RESPECT! To subscribe to receive mission notices\, log into the National Site and click on the Members tab at the top. Select the Subscribe to PGR Missions option.\n Print This Page
URL:https://www.patriotguard.org/mission/honor-and-remember-our-country-patriots-day/
CATEGORIES:HOTH Mission
END:VEVENT
END:VCALENDAR