BEGIN:VCALENDAR
VERSION:2.0
PRODID:-//Patriot Guard Riders - ECPv5.6.0//NONSGML v1.0//EN
CALSCALE:GREGORIAN
METHOD:PUBLISH
X-WR-CALNAME:Patriot Guard Riders
X-ORIGINAL-URL:https://www.patriotguard.org
X-WR-CALDESC:Events for Patriot Guard Riders
BEGIN:VTIMEZONE
TZID:America/New_York
BEGIN:DAYLIGHT
TZOFFSETFROM:-0500
TZOFFSETTO:-0400
TZNAME:EDT
DTSTART:20160313T070000
END:DAYLIGHT
BEGIN:STANDARD
TZOFFSETFROM:-0400
TZOFFSETTO:-0500
TZNAME:EST
DTSTART:20161106T060000
END:STANDARD
END:VTIMEZONE
BEGIN:VEVENT
DTSTART;TZID=America/New_York:20160627T090000
DTEND;TZID=America/New_York:20160627T110000
DTSTAMP:20210512T234210
CREATED:20160627T130000Z
LAST-MODIFIED:20191201T144828Z
UID:411050-1467018000-1467025200@www.patriotguard.org
SUMMARY:Homer Lee Boyd\, USA
DESCRIPTION:The family of Homer Lee Boyd has requested the presence of the Patriot Guard to stand a flag line and lead the escort to his final resting place. Homer served in  Army during the Korean Conflict and after his service went on to play with the Philharmonic before settling in Springfield\, MO. \nService10:00 AM\, Monday\, June 27\, 2016\nGorman-Scharpf Funeral Home\n1947 East Seminole Springfield\, MO 65804\n\nBurial at 1:00 at MSVCS with full Military Honors \nStage 9:00 AM \nBriefing 9:15 AM\nFlag Line to Follow Briefing \n\n—\nHolly Anthony\ngofer12.ha@gmail.com
URL:https://www.patriotguard.org/mission/homer-lee-boyd-usa/
CATEGORIES:Archive
END:VEVENT
END:VCALENDAR