BEGIN:VCALENDAR
VERSION:2.0
PRODID:-//Patriot Guard Riders - ECPv5.3.2.1//NONSGML v1.0//EN
CALSCALE:GREGORIAN
METHOD:PUBLISH
X-WR-CALNAME:Patriot Guard Riders
X-ORIGINAL-URL:https://www.patriotguard.org
X-WR-CALDESC:Events for Patriot Guard Riders
BEGIN:VTIMEZONE
TZID:America/New_York
BEGIN:DAYLIGHT
TZOFFSETFROM:-0500
TZOFFSETTO:-0400
TZNAME:EDT
DTSTART:20190310T070000
END:DAYLIGHT
BEGIN:STANDARD
TZOFFSETFROM:-0400
TZOFFSETTO:-0500
TZNAME:EST
DTSTART:20191103T060000
END:STANDARD
END:VTIMEZONE
BEGIN:VEVENT
DTSTART;VALUE=DATE:20190809
DTEND;VALUE=DATE:20190810
DTSTAMP:20210402T143138
CREATED:20190808T134529Z
LAST-MODIFIED:20190808T134529Z
UID:170124-1565308800-1565395199@www.patriotguard.org
SUMMARY:Homer Gene Wasson
DESCRIPTION:Honor Mission\nHomer Gene Wasson\, Veteran\nUSMC – Korea\nKerens\, Texas – 08-09-19\n\n\n \n\nABOUT THE MISSION: \nThe family of Mr. Homer Gene Wasson has asked the Patriot Guard Riders to honor his memory and service to our Country by standing a Flag Line at his funeral service\, ride with him one last time and stand again at his interment.\n\n\nPRIMARY STAGING DETAILS: 08-09-19 \nStaging Time: 10:00 am\n \nFirst Baptist Church\n200 SW 2nd Street\nKerens\, Texas 75144\n\n\nRide Captain: \nRick Crabb\nrandjcrabb@juno.com\n(910) 330-9861\n\n\nSpecial Instructions: \nBriefing Time: 10:10\nIn Position/KSU Time: 10:20\nStarting Time: 11:00\nAfter the Mission Brief\, the Riders will establish the Flag Line and await the arrival of Mr. Wasson’s family and friends. When directed\, the Riders will return the flags to the support vehicle\, receive the Safety Brief and prepare to accompany the procession to the cemetery. Riders not participating in the procession will proceed to the cemetery and assist with setting up the flags. Procession: Escort Provided\n\nFlags & Water:\nFlags will be provided\nIf you have large bike flags\, please bring them.\nWater will be provided.\n\nSTAGING #2 DETAILS: 08-09-19 \nStaging Time: 12:15 pm\n \nBazette Prairie Point Cemetery\n5365 County Road NE 3130\nKerens\, Texas 75144\n\n\nRide Captain: \nRick Crabb\nrandjcrabb@juno.com\n(910) 330-9861\n\n\nSpecial Instructions: \nStarting Time: 12:30 pm – Estimated\nThe Riders will establish the Flag Line and prepare to receive the family and friends of Mr. Wasson. When directed\, the Riders will return the flags to storage\, be debriefed and dismissed.\n\nFlags & Water:\nFlags will be provided\nLarge Bike Flags will NOT be needed.\nWater will be provided.\n\n\n\nSubmitted By: Dan Mathys \nPosition: Texas Ride Captain \n\nNote: You do not have to own/ride a motorcycle or be a veteran to join\, and membership is Free. The only requirement is RESPECT! To subscribe to receive mission notices\, log into the National Site and click on the Members tab at the top. Select the Subscribe to PGR Missions option.\n Print This Page
URL:https://www.patriotguard.org/mission/homer-gene-wasson/
CATEGORIES:Honor Mission
END:VEVENT
END:VCALENDAR