BEGIN:VCALENDAR
VERSION:2.0
PRODID:-//Patriot Guard Riders - ECPv5.3.2.1//NONSGML v1.0//EN
CALSCALE:GREGORIAN
METHOD:PUBLISH
X-WR-CALNAME:Patriot Guard Riders
X-ORIGINAL-URL:https://www.patriotguard.org
X-WR-CALDESC:Events for Patriot Guard Riders
BEGIN:VTIMEZONE
TZID:America/New_York
BEGIN:DAYLIGHT
TZOFFSETFROM:-0500
TZOFFSETTO:-0400
TZNAME:EDT
DTSTART:20190310T070000
END:DAYLIGHT
BEGIN:STANDARD
TZOFFSETFROM:-0400
TZOFFSETTO:-0500
TZNAME:EST
DTSTART:20191103T060000
END:STANDARD
END:VTIMEZONE
BEGIN:VEVENT
DTSTART;VALUE=DATE:20190727
DTEND;VALUE=DATE:20190728
DTSTAMP:20210404T070430
CREATED:20190718T222155Z
LAST-MODIFIED:20190718T222155Z
UID:168119-1564185600-1564271999@www.patriotguard.org
SUMMARY:Home dedication for Michael Monthervil
DESCRIPTION:HOTH Mission\nHome dedication for Michael Monthervil\, Veteran\nUSA – GW/ODS\nApollo Beach\, Florida – 07-27-19\n\n\n\nABOUT THE MISSION: \nThe Patriot Guard Riders have been graciously invited to participate in an escort ceremony for SPC Michael Monthervil\, who has been awarded a new home after being severely injured while fighting for our country. We will also have either FHP or Hillsborough County Sheriff\, Fire Department and also about 75 Mopars in the escort. We will participate in the escort\, and then stand a flag line during the ceremony.\nPlease bring your 3 X 5 American flags and stand in honor and respect for this Veteran hero and his family\n\n\nPRIMARY STAGING DETAILS: 07-27-19 \nStaging Time: 8:30 AM\n \nWinn Dixie parking lot (South of The Salty Shamrock Irish Pub)\n6186 N U.S. Hwy 41\nApollo Beach\, Florida 33572\nMap\n\n\nRide Captain: \nBill Franklin\n941-350-2547\ngulfrader@comcast.net\n\n\nSpecial Instructions: \n8:30 AM – Stage\n9:00 AM – Brief\n9:15 AM –  approximate KSU\n\nFlags & Water:\nFlags will not be provided.\nIf you have large bike flags\, please bring them.\nWater WILL NOT be provided\, please bring your own. \n\n\n\nSubmitted By: William Franklin \nPosition: Florida Ride Captain \n\nNote: You do not have to own/ride a motorcycle or be a veteran to join\, and membership is Free. The only requirement is RESPECT! To subscribe to receive mission notices\, log into the National Site and click on the Members tab at the top. Select the Subscribe to PGR Missions option.\n Print This Page
URL:https://www.patriotguard.org/mission/home-dedication-for-michael-monthervil/
CATEGORIES:HOTH Mission
END:VEVENT
END:VCALENDAR