BEGIN:VCALENDAR
VERSION:2.0
PRODID:-//Patriot Guard Riders - ECPv5.3.2.1//NONSGML v1.0//EN
CALSCALE:GREGORIAN
METHOD:PUBLISH
X-WR-CALNAME:Patriot Guard Riders
X-ORIGINAL-URL:https://www.patriotguard.org
X-WR-CALDESC:Events for Patriot Guard Riders
BEGIN:VTIMEZONE
TZID:America/New_York
BEGIN:DAYLIGHT
TZOFFSETFROM:-0500
TZOFFSETTO:-0400
TZNAME:EDT
DTSTART:20180311T070000
END:DAYLIGHT
BEGIN:STANDARD
TZOFFSETFROM:-0400
TZOFFSETTO:-0500
TZNAME:EST
DTSTART:20181104T060000
END:STANDARD
END:VTIMEZONE
BEGIN:VEVENT
DTSTART;VALUE=DATE:20181211
DTEND;VALUE=DATE:20181212
DTSTAMP:20210405T175411
CREATED:20181207T152039Z
LAST-MODIFIED:20181207T152413Z
UID:143843-1544486400-1544572799@www.patriotguard.org
SUMMARY:Michael Terry Ledford
DESCRIPTION:Honor Mission\nMichael Terry Ledford\, Veteran\nUSMC – Vietnam\nHolly\, Michigan – 12-11-18\n\n\n\n\nABOUT THE MISSION: \nThe family of Sgt Michael T. Ledford has invited the Patriot Guard Riders to stand in silent honor of his service to our country. Michael proudly served his country from March of 1967 until December of 1970.  He was in Vietnam from 68 until 70.  Michael was awarded The Vietnam Campaign Medal\, The Vietnam Service Medal as well as several others.  Michael continued to serve his brothers and sisters in arms by being an active member of both the Oxford American Legion and Lake Orion VFW Posts.  He was honored to serve as a member of Lake Orion’s VFW Honor Guard.\nPlease join us in honoring Michael as he is laid to rest.\nObituary\n\n\nPRIMARY STAGING DETAILS: 12-11-18 \nStaging Time: 12:15 p.m.\n \nHolly-McDonald’s\n15187 N. Holly Rd.\nHolly\, Michigan 48442\nMap\n\n\nRide Captain: \nTraveler\n248-496-9107\nChimney99@att.net\n\n\nSpecial Instructions: \nBriefing:12:40 pm\nDepart for GLNC 1:05 pm\nService: 1:30 pm\nPlease bring your 3′ x 5′ American flags to stand in honor of Michael T. Ledford\n\n\nFlags & Water:\nFlags will not be provided\nIf you have large bike flags\, please bring them.\nWater WILL NOT be provided\, please bring your own.\n\n\nSubmitted By: Alan Niemeyer \nPosition: Michigan State Captain \n\nNote: You do not have to own/ride a motorcycle or be a veteran to join\, and membership is Free. The only requirement is RESPECT! To subscribe to receive mission notices\, log into the National Site and click on the Members tab at the top. Select the Subscribe to PGR Missions option.\n Print This Page
URL:https://www.patriotguard.org/mission/hold-michael-terry-ledford/
CATEGORIES:Honor Mission
END:VEVENT
END:VCALENDAR