BEGIN:VCALENDAR
VERSION:2.0
PRODID:-//Patriot Guard Riders - ECPv5.3.2.1//NONSGML v1.0//EN
CALSCALE:GREGORIAN
METHOD:PUBLISH
X-WR-CALNAME:Patriot Guard Riders
X-ORIGINAL-URL:https://www.patriotguard.org
X-WR-CALDESC:Events for Patriot Guard Riders
BEGIN:VTIMEZONE
TZID:America/New_York
BEGIN:DAYLIGHT
TZOFFSETFROM:-0500
TZOFFSETTO:-0400
TZNAME:EDT
DTSTART:20190310T070000
END:DAYLIGHT
BEGIN:STANDARD
TZOFFSETFROM:-0400
TZOFFSETTO:-0500
TZNAME:EST
DTSTART:20191103T060000
END:STANDARD
END:VTIMEZONE
BEGIN:VEVENT
DTSTART;VALUE=DATE:20190530
DTEND;VALUE=DATE:20190601
DTSTAMP:20210405T024459
CREATED:20190530T001128Z
LAST-MODIFIED:20190530T001128Z
UID:162915-1559174400-1559347199@www.patriotguard.org
SUMMARY:Hobert "Sonny" Deward Hickman
DESCRIPTION:Honor Mission\nHobert “Sonny” Deward Hickman\, Veteran\nUSA – Korea\, Vietnam\nChattanooga\, Tennessee – 05-30-19\n\n\n\nABOUT THE MISSION: \nThe family of Sgt\, Hobert “Sonny” Deward Hickman\, 72\, US Army (Korea (DMZ Security) -Vietnam)\, of Chattanooga has invited the Patriot Guard Riders to Honor their loved one with a silent flagline and escort to his final place of rest. It will be our honor to do so. Mr. Hickman\, 4/26/47 to 5/28/19\, served his country Honorably in a security Company in the Korean DMZ ’64-’65 before being deployed to Vietnam in the 7th Air Cavalry as a machine gunner and airborne assault. Mr. Hickman stood for us and now it our time to stand for him.\n\n\nPRIMARY STAGING DETAILS: 05-30-19 \nStaging Time: 2:30 PM\n \nTurner Funeral Home\n3913 Webb Rd.\nChattanooga\, Tennessee 37416\n\n\nRide Captain: \nScott Hall\nCell: 706-463-1247\n\n\nSpecial Instructions: \nPrimary Staging/ Visitation: Thursday\, 3:00-8:00 PM\n\n\nFlags & Water:\nFlags will be provided\nLarge Bike Flags will NOT be needed.\nWater will be provided.\n\nSTAGING #2 DETAILS: 05-31-19 \nStaging Time: 10:30 AM\n \nTurner Funeral Home\n3913 Webb Rd.\nChattanooga\, Tennessee 37416\n\n\nRide Captain: \nScott Hall\nCell: 706-463-1247\n\n\nSpecial Instructions: \nVisitation /Escort: 11:00- 12:00 (funeral)\n\n\nFlags & Water:\nFlags will be provided\nIf you have large bike flags\, please bring them.\nWater WILL NOT be provided\, please bring your own.\n\nSTAGING #3 DETAILS: 05-31-19 \nStaging Time: 1:00 PM\n \nChattanooga National Cemetery\n1200 Bailey Avenue\nChattanooga\, Tennessee 37404\n\n\nRide Captain: \nScott Hall\nCell: 706-463-1247\n\n\nSpecial Instructions: \nGravesite: 1:30 PM\n\n\nFlags & Water:\nFlags will be provided\nIf you have large bike flags\, please bring them.\nWater WILL NOT be provided\, please bring your own.\n\n\n\nSubmitted By: Thonda Farmer \nPosition: Tennessee Assistant State Captain \n\nNote: You do not have to own/ride a motorcycle or be a veteran to join\, and membership is Free. The only requirement is RESPECT! To subscribe to receive mission notices\, log into the National Site and click on the Members tab at the top. Select the Subscribe to PGR Missions option.\n Print This Page
URL:https://www.patriotguard.org/mission/hobert-sonny-deward-hickman/
CATEGORIES:Honor Mission
END:VEVENT
END:VCALENDAR