BEGIN:VCALENDAR
VERSION:2.0
PRODID:-//Patriot Guard Riders - ECPv5.6.0//NONSGML v1.0//EN
CALSCALE:GREGORIAN
METHOD:PUBLISH
X-WR-CALNAME:Patriot Guard Riders
X-ORIGINAL-URL:https://www.patriotguard.org
X-WR-CALDESC:Events for Patriot Guard Riders
BEGIN:VTIMEZONE
TZID:America/New_York
BEGIN:DAYLIGHT
TZOFFSETFROM:-0500
TZOFFSETTO:-0400
TZNAME:EDT
DTSTART:20160313T070000
END:DAYLIGHT
BEGIN:STANDARD
TZOFFSETFROM:-0400
TZOFFSETTO:-0500
TZNAME:EST
DTSTART:20161106T060000
END:STANDARD
END:VTIMEZONE
BEGIN:VEVENT
DTSTART;TZID=America/New_York:20160827T090000
DTEND;TZID=America/New_York:20160827T110000
DTSTAMP:20210512T005531
CREATED:20160827T130000Z
LAST-MODIFIED:20191201T143256Z
UID:409615-1472288400-1472295600@www.patriotguard.org
SUMMARY:HN Aaron D. Buford\, 24
DESCRIPTION:HN Aaron D. Buford\, 24\nUS Navy (AD)\nWinston-Salem\,NC\nSaturday 8/27/2016\n\n\nThe US Navy and the family of HN Aaron D. Buford\, 24 have invited the PGR to receive this Hero as he returns home to Winston-Salem. \nHN Buford was a Hospitalman in the US Navy.  He was assigned to Naval Medical Center San Diego (NMCSD).  Sadly he passed away  in San Diego while on active duty. \nMr. Buford is scheduled to arrive at Charlotte-Douglas (Charlotte) at 3:03 PM Saturday 8/27/2016.  He will be transferred to Russell Funeral Home\, 822 Carl Russell Ave\, Winston-Salem\, NC. \nThis will be a one part mission to receive the Hero as he arrives and is transferred at the funeral home. \nSTAGE: 4:00 PM.  Russell Funeral Home\, 822 Carl Russell Dr\, Winston-Salem\, NC.  https://binged.it/2buF4wG\n\nBRIEF: 4:15 PM.  We will form the Flag line immediately following the briefing.  Please keep in mind these are fluid situations and are subject to change before final execution. \nFuneral arrangements are incomplete at this time. \nRCIC:  Don J. Bryant\ndjbjbryant7@gmail.com\n336 880-6224
URL:https://www.patriotguard.org/mission/hn-aaron-d-buford-24/
CATEGORIES:Archive
END:VEVENT
END:VCALENDAR