BEGIN:VCALENDAR
VERSION:2.0
PRODID:-//Patriot Guard Riders - ECPv5.6.0//NONSGML v1.0//EN
CALSCALE:GREGORIAN
METHOD:PUBLISH
X-WR-CALNAME:Patriot Guard Riders
X-ORIGINAL-URL:https://www.patriotguard.org
X-WR-CALDESC:Events for Patriot Guard Riders
BEGIN:VTIMEZONE
TZID:America/New_York
BEGIN:DAYLIGHT
TZOFFSETFROM:-0500
TZOFFSETTO:-0400
TZNAME:EDT
DTSTART:20160313T070000
END:DAYLIGHT
BEGIN:STANDARD
TZOFFSETFROM:-0400
TZOFFSETTO:-0500
TZNAME:EST
DTSTART:20161106T060000
END:STANDARD
END:VTIMEZONE
BEGIN:VEVENT
DTSTART;TZID=America/New_York:20160802T090000
DTEND;TZID=America/New_York:20160802T110000
DTSTAMP:20210511T195234
CREATED:20160802T130000Z
LAST-MODIFIED:20191201T143915Z
UID:410205-1470128400-1470135600@www.patriotguard.org
SUMMARY:HMC Richard B. Wilson Jr\, USN (RET)
DESCRIPTION:Patriot’s Name:  CPO Richard Boyd Wilson\, Jr.\nMilitary Branch:  United States Navy\nClassification:  Retired From Military \nAdditional Military Info:\nCPO Richard B. Wilson Jr. honorably served as a Hospital Corpsman (HM) serving from 1951 to 1971\, being release from active duty on December 30\, 1971\, retiring after 20 years of honorable service. During his service\, he was awarded the Presidential Unit Citation\, National Defense Service Medal\, RVN Cross of Gallantry with palm\, 5 Good Conduct Medals\, Vietnam Service Medal / FMF Insignia\, and the Republic of Vietnam Campaign Medal/with 1960 -1 device. \nMission Ride Captain:\nJim “Weird Andy” Anderson\, weirdandy@hotmail.com\, (817) 269-1254\n\nMission Summary:\nThe Wilson family has requested the North Texas Patriot Guard Riders to stand the flag line at DFW National Cemetery\, Shelter A. \nPART 1:\nInurnment Service at DFW National Cemetery\, Tuesday\, August 2\, 2016\,\n10:00\,\nShelter A. \nMission Date:  02\, 2016 – Tuesday\nStaging Time:  09:15\nBriefing Time:  09:30\nIn Position Time Or KSU:  09:45\nService Start Time:  10:00 \nDetails Of Part 1:\nPrior to the riders briefing at the Visitors Center\, four honor bikes will be selected to accompany the coach to the committal shelter. After the\nbriefing\, the PGR will establish the flag line at Shelter A\, where we will stand tall and silent in honor of CPO Richard B. Wilson\, Jr.\, his family\,\nand friends. Upon conclusion of the Inurnment Service\, the flags will be furled and returned to storage followed by debriefing and dismissal. \nName Of Staging Point:\nDFW National Cemetery Visitors Center\n2000 Mountain Creek Parkway\nDallas\, Texas 75211
URL:https://www.patriotguard.org/mission/hmc-richard-b-wilson-jr-usn-ret/
CATEGORIES:Archive
END:VEVENT
END:VCALENDAR