BEGIN:VCALENDAR
VERSION:2.0
PRODID:-//Patriot Guard Riders - ECPv5.3.2.1//NONSGML v1.0//EN
CALSCALE:GREGORIAN
METHOD:PUBLISH
X-WR-CALNAME:Patriot Guard Riders
X-ORIGINAL-URL:https://www.patriotguard.org
X-WR-CALDESC:Events for Patriot Guard Riders
BEGIN:VTIMEZONE
TZID:America/New_York
BEGIN:DAYLIGHT
TZOFFSETFROM:-0500
TZOFFSETTO:-0400
TZNAME:EDT
DTSTART:20190310T070000
END:DAYLIGHT
BEGIN:STANDARD
TZOFFSETFROM:-0400
TZOFFSETTO:-0500
TZNAME:EST
DTSTART:20191103T060000
END:STANDARD
END:VTIMEZONE
BEGIN:VEVENT
DTSTART;VALUE=DATE:20190620
DTEND;VALUE=DATE:20190621
DTSTAMP:20210405T030306
CREATED:20190612T113158Z
LAST-MODIFIED:20190612T113158Z
UID:163807-1560988800-1561075199@www.patriotguard.org
SUMMARY:Highway Bridge Dedication - Dillon C Baldridge
DESCRIPTION:Dedication\nHighway Bridge Dedication – Dillon C Baldridge\n–\nBoone\, North Carolina – 06-20-19\n\n\n\nABOUT THE MISSION:\n\nSgt Dillon Baldridge from the Army’s 101st Airborne Division was killed by an Afghan soldier on Saturday June 10\, 2017. He along with two fellow soldiers died of gunshot wounds while deployed to Peka Valley in Afghanistan’s Nargarhar province. Balridge\, 22\, was an infantryman from D Company\, 187th Infantry Regiment\, 3rd Brigade Combat Team\, 101st Airborne Division. Baldridge was posthumously promoted to sergeant and awarded the Bronze Star\, Purple Heart\, Combat Infantry Badge and Army Commendation Medal with one oak leaf cluster. Join us in celebrating and honoring this young man as the State of North Carolina officially dedicates the highway bridge in his honor.\nWe will form a flag line for the ceremony as well as escort his mother and family\, close friends\, and fellow soldiers to the ceremony\n\n\nPRIMARY STAGING DETAILS: 06-20-19 \nStaging Time: 11:15 AM\n \nVeterans of Foreign Wars Post 7031\n144 VFW Dr\nBoone\, North Carolina 28607\nMap\n\n\nRide Captain: \nBenny Hayslett –\n704-477-5015\nbh241@carolina.rr.com\n           Roger Carroll – Flag Line.\n\n\nSpecial Instructions: \nAll persons are requested to stage at the VFW Post lot at 11:15am. Mission Briefing 11:30 am KSU 11:45 am .  The VFW building will NOT be open\, facilities are not available at this location. Boone PD and Watauga County LEO will escort from VFW building to the bridge at Hwy 421 & Hwy 221. Follow directions of DOT personnel for parking locations. Location of Ceremony Sgt Dillon Baldridge Memorial Bridge Near 100 US-221\, Deep Gap\, NC 28618 Map\n\nFlags & Water:\n\nFlags will be provided\nIf you have large bike flags\, please bring them.\nWater WILL NOT be provided\, please bring your own.\n\n\n\nSubmitted By: Benny Hayslett \nPosition: North Carolina Ride Captain \n\nNote: You do not have to own/ride a motorcycle or be a veteran to join\, and membership is Free. The only requirement is RESPECT! To subscribe to receive mission notices\, log into the National Site and click on the Members tab at the top. Select the Subscribe to PGR Missions option.\n Print This Page
URL:https://www.patriotguard.org/mission/highway-bridge-dedication-dillon-c-baldridge/
CATEGORIES:Dedication
END:VEVENT
END:VCALENDAR