BEGIN:VCALENDAR
VERSION:2.0
PRODID:-//Patriot Guard Riders - ECPv5.3.2.1//NONSGML v1.0//EN
CALSCALE:GREGORIAN
METHOD:PUBLISH
X-WR-CALNAME:Patriot Guard Riders
X-ORIGINAL-URL:https://www.patriotguard.org
X-WR-CALDESC:Events for Patriot Guard Riders
BEGIN:VTIMEZONE
TZID:America/New_York
BEGIN:DAYLIGHT
TZOFFSETFROM:-0500
TZOFFSETTO:-0400
TZNAME:EDT
DTSTART:20190310T070000
END:DAYLIGHT
BEGIN:STANDARD
TZOFFSETFROM:-0400
TZOFFSETTO:-0500
TZNAME:EST
DTSTART:20191103T060000
END:STANDARD
END:VTIMEZONE
BEGIN:VEVENT
DTSTART;VALUE=DATE:20190626
DTEND;VALUE=DATE:20190627
DTSTAMP:20210405T052600
CREATED:20190624T194714Z
LAST-MODIFIED:20190624T194714Z
UID:165670-1561507200-1561593599@www.patriotguard.org
SUMMARY:Hero's without Family
DESCRIPTION:  \n\nHonor Mission\nHero’s without Family\, Veteran\nUSN USAF – Korea\, Vietnam\nSarasota\, Florida  06-26-19\n\n\n \n\nABOUT THE MISSION: \nSarasota National Cemetery will have a service for two heroes without family. The first hero SGT USAF served 1/6/65 to 12/16/68 Vietnam. Second hero PO2 USN served 1/18/51 to 11/8/54 Korea\, served 7/14/66 to 3/9/78 Vietnam. These heroes served our great nation and us\, this is our turn to stand for these heroes. Please bring your 3×5 American flags and stand in silent respect for these heroes. The heroes names will be announced at the service.\n\n\nPRIMARY STAGING DETAILS: 06-26-19 \nStaging Time: 11:00 am  \nSarasota National Cemetery\n9810 SR 72\nSarasota\, Florida 34241\n\n\nRide Captain: \nHenry (Chief 09) Hyde\nhhydetkd@gmail.com\n727-798-0220\n\n\nSpecial Instructions: \n11:00 am – Stage\n11:15 am – Brief\n11:30 am – Service\nFlag Line as determined by R/C\n\n\nFlags & Water:\nFlags will not be provided\nLarge Bike Flags will NOT be needed.\nWater WILL NOT be provided\, please bring your own.\n  \n\n\n\nSubmitted By: Henry Hyde \nPosition: Florida Assistant State Captain \n\nNote: You do not have to own/ride a motorcycle or be a veteran to join\, and membership is Free. The only requirement is RESPECT! To subscribe to receive mission notices\, log into the National Site and click on the Members tab at the top. Select the Subscribe to PGR Missions option.\n Print This Page
URL:https://www.patriotguard.org/mission/heros-without-family-15/
CATEGORIES:Honor Mission
END:VEVENT
END:VCALENDAR