BEGIN:VCALENDAR
VERSION:2.0
PRODID:-//Patriot Guard Riders - ECPv5.3.2.1//NONSGML v1.0//EN
CALSCALE:GREGORIAN
METHOD:PUBLISH
X-WR-CALNAME:Patriot Guard Riders
X-ORIGINAL-URL:https://www.patriotguard.org
X-WR-CALDESC:Events for Patriot Guard Riders
BEGIN:VTIMEZONE
TZID:America/New_York
BEGIN:DAYLIGHT
TZOFFSETFROM:-0500
TZOFFSETTO:-0400
TZNAME:EDT
DTSTART:20190310T070000
END:DAYLIGHT
BEGIN:STANDARD
TZOFFSETFROM:-0400
TZOFFSETTO:-0500
TZNAME:EST
DTSTART:20191103T060000
END:STANDARD
END:VTIMEZONE
BEGIN:VEVENT
DTSTART;VALUE=DATE:20190529
DTEND;VALUE=DATE:20190530
DTSTAMP:20210405T134707
CREATED:20190528T151607Z
LAST-MODIFIED:20190528T151936Z
UID:162646-1559088000-1559174399@www.patriotguard.org
SUMMARY:Heroes Without Family
DESCRIPTION:Honor Mission\n Heroes Without Family\, Veteran\nUSA USN USAF – Korea\, Vietnam\nSarasota\, Florida – 05-29-19\n\n\n\nABOUT THE MISSION: \nSarasota National Cemetery will have a service for four heroes without family. The first hero\, PVT US Army\, served from 2/12/51 to 2/11/54 in Korea. The second hero\, SR US Navy\, served 10/30/73 to 11/21/73 in Vietnam\, the third hero\, SA US Navy\, served from 6/2/72 to 7/18/74 in Vietnam\, and the last hero\, AIC USAF\, served from 5/27/60 to 3/2/64. Their names will be announced at the service. These heroes served our great nation and us. This is our turn to stand for them. Please bring your 3×5 American flags and stand for these heroes.\n\n\nPRIMARY STAGING DETAILS: 05-29-19 \nStaging Time: 11:00 AM \nSarasota National Cemetery\n9810 SR 72\nSarasota\, Florida 34241\n\n\nRide Captain: \nBlair McFarlane\nflockeydad@hotmail.com\n518-527-0588\n\n\nSpecial Instructions: \nStage:     11:00 AM\nBrief:       11:15 AM\nService:  11:30 AM\nFlag Line as determined by R/C\n\n\nFlags & Water:\nFlags will not be provided.\nLarge Bike Flags will NOT be needed.\nWater WILL NOT be provided\, please bring your own.\n\n\nSubmitted By: Henry Hyde \nPosition: Florida Assistant State Captain \n\nNote: You do not have to own/ride a motorcycle or be a veteran to join\, and membership is Free. The only requirement is RESPECT! To subscribe to receive mission notices\, log into the National Site and click on the Members tab at the top. Select the Subscribe to PGR Missions option.\n Print This Page
URL:https://www.patriotguard.org/mission/heroes-without-family-6/
CATEGORIES:Honor Mission
END:VEVENT
END:VCALENDAR