BEGIN:VCALENDAR
VERSION:2.0
PRODID:-//Patriot Guard Riders - ECPv5.6.0//NONSGML v1.0//EN
CALSCALE:GREGORIAN
METHOD:PUBLISH
X-WR-CALNAME:Patriot Guard Riders
X-ORIGINAL-URL:https://www.patriotguard.org
X-WR-CALDESC:Events for Patriot Guard Riders
BEGIN:VTIMEZONE
TZID:America/New_York
BEGIN:DAYLIGHT
TZOFFSETFROM:-0500
TZOFFSETTO:-0400
TZNAME:EDT
DTSTART:20160313T070000
END:DAYLIGHT
BEGIN:STANDARD
TZOFFSETFROM:-0400
TZOFFSETTO:-0500
TZNAME:EST
DTSTART:20161106T060000
END:STANDARD
END:VTIMEZONE
BEGIN:VEVENT
DTSTART;TZID=America/New_York:20160523T090000
DTEND;TZID=America/New_York:20160523T110000
DTSTAMP:20210512T085109
CREATED:20160523T130000Z
LAST-MODIFIED:20191201T145740Z
UID:411884-1463994000-1464001200@www.patriotguard.org
SUMMARY:Herman Glenn Plummer\, Sr.\, USA-Vietnam
DESCRIPTION:Herman Glenn Plummer Sr.\nVietnam Army\nGallup NM\, 05-23-2016\n\n\n\nMr. Herman Glenn Plummer\, Sr. was inducted into the US Army July\, 31st. 1969 and Honorably discharged July 22\, 1971. Mr. Plummer served in Vietnam and in the US Army Reserve at Ft. Lewis Washington. Mr. Plummer is survived by his wife Mary\, four children\, and 22 grandchildren. \nPRIMARY STAGING INFO – 05-23-2016: \n  Location:\nLDS-Mormon Church\n601 Susan Ave.\nGallup NM \n StagingTime:\n8:15 A.M. \n  Special Instructions:\nMr. Plummer’s family has requested a flag line at the service and at interment. Possible motorcycle escort depending on law enforcement. There will be a viewing from 9 am to 10 am with services starting at 10 am. Interment will be at the family plot in Coyote Canyon. Road conditions into family plot are dirt and will be determined on weather. \nRCIC:\nJim F. Smith – RC – kokopelliadventure@yahoo.com – 505-870-0727 \n    Flags will be provided.\nLarge bike flags will NOT be needed. \nWeather: \nH 74 L 37 Winds 20 to 30 mph
URL:https://www.patriotguard.org/mission/herman-glenn-plummer-sr-usa-vietnam/
CATEGORIES:Archive
END:VEVENT
END:VCALENDAR