BEGIN:VCALENDAR
VERSION:2.0
PRODID:-//Patriot Guard Riders - ECPv5.3.2.1//NONSGML v1.0//EN
CALSCALE:GREGORIAN
METHOD:PUBLISH
X-WR-CALNAME:Patriot Guard Riders
X-ORIGINAL-URL:https://www.patriotguard.org
X-WR-CALDESC:Events for Patriot Guard Riders
BEGIN:VTIMEZONE
TZID:America/New_York
BEGIN:DAYLIGHT
TZOFFSETFROM:-0500
TZOFFSETTO:-0400
TZNAME:EDT
DTSTART:20210314T070000
END:DAYLIGHT
BEGIN:STANDARD
TZOFFSETFROM:-0400
TZOFFSETTO:-0500
TZNAME:EST
DTSTART:20211107T060000
END:STANDARD
END:VTIMEZONE
BEGIN:VEVENT
DTSTART;VALUE=DATE:20210401
DTEND;VALUE=DATE:20210402
DTSTAMP:20210401T153857
CREATED:20210330T004847Z
LAST-MODIFIED:20210330T004847Z
UID:573300-1617235200-1617321599@www.patriotguard.org
SUMMARY:Herman C. Spann
DESCRIPTION:Honor Mission\nHerman C. Spann \, Retired\nUSA \, USAR –  Vietnam\nMcDonough/Canton\, Georgia – 04-01-21\n\n\n\nABOUT THE MISSION: \nThe family of Master Sergeant Herman C. Spann has requested the Patriot Guard Riders to honor their hero by escorting & standing a silent flag line at his service. It will be our honor to do so.   Mr. Spann entered the Army August 1965 and served until August 1971\, where he went into the Army reserve. He retired from the Army reserve in July 2002. While on active-duty\, Mr. Spann was awarded the Vietnam Service Medal w/2 Bronze service stars\, Republic of Vietnam Campaign Medal\, National Defense Service Medal\, Sharpshooter (Rifle) and 2D Class Gunner M-60 MG. After his active-duty Mr. Spann worked for Greyhound Bus company starting out as a driver and working his way up to Trainer and Safety Coordinator\, retiring after 20 years.\n\n\nPRIMARY STAGING DETAILS: 04-01-21 \nStaging Time: 8:15 am \nSylvain Funeral Home\n2750 Highway 42N\nMcDonough\, Georgia 30253\n\n\nRide Captain: \nJim “Fuzzy” Marshall\noutbackjrm@gmail.com\n404-263-9110\n\n\nSpecial Instructions: \nStage in the back parking lot. After a short briefing\, get lined up for a LEO assisted rolling honor guard to GNC. KSU scheduled for 8:40 am.  This will be executed at highway speeds.  Please ensure your flags will sustain highway speeds.  CDC guidelines for COVID-19 will be closely followed.  Please ensure you have a face covering.\n\n\nFlags & Water:\nFlags will not be provided\nIf you have large bike flags\, please bring them.\nWater WILL NOT be provided\, please bring your own.\n\nSTAGING #2 DETAILS: 04-01-21 \nStaging Time: 10:15 am \nGeorgia National Cemetery\n1080 Scott Hudgens Drive\nCanton\, Georgia 30114\n\n\nRide Captain: \nJim ” Fuzzy” Marshall\noutbackjrm@gmail.com\n404-263-9110\n\n\nSpecial Instructions: \nStage at the PIC Building and await the arrival of the escort. Cages park closely on both sides of the drive. Leave the area on left up front for bike parking. We will move to the assigned shelter when appropriate. Service is scheduled for 11:00 am.  Doc Griffin will provide flag wagon services.\n\nCoronavirus precaution disclosure: Please bring a mask and wash hands often\, be prepared to follow the guidelines to be outlined at the mission briefing. A general record of attendees will be held by the ride captain for a period not to exceed 2 weeks in the case of the need for contact tracing. If you test positive for COVID- 19 within 10 days of attending a mission please contact the Ride Captain with that information. Your name will NOT be disclosed. Those who are sick\, have a household member or other close contact who is sick should not attend and those who have a higher risk of severe illness should weigh the benefits of in-person attendance against the risk of exposure to a person with COVID-19\, especially if recommendations for wearing masks and social distancing may be difficult to follow for themselves or others.\n\n\nFlags & Water:\nFlags will be provided\nLarge Bike Flags will NOT be needed.\nWater will be provided.\n\n\n\nSubmitted By: James R. Marshall \nPosition: Georgia Ride Captain \n\nNote: You do not have to own/ride a motorcycle or be a veteran to join\, and membership is Free. The only requirement is RESPECT! To subscribe to receive mission notices\, log into the National Site and click on the Members tab at the top. Select the Subscribe to PGR Missions option.\n Print This Page
URL:https://www.patriotguard.org/mission/herman-c-spann/
CATEGORIES:Honor Mission
END:VEVENT
END:VCALENDAR