BEGIN:VCALENDAR
VERSION:2.0
PRODID:-//Patriot Guard Riders - ECPv5.3.2.1//NONSGML v1.0//EN
CALSCALE:GREGORIAN
METHOD:PUBLISH
X-WR-CALNAME:Patriot Guard Riders
X-ORIGINAL-URL:https://www.patriotguard.org
X-WR-CALDESC:Events for Patriot Guard Riders
BEGIN:VTIMEZONE
TZID:America/New_York
BEGIN:DAYLIGHT
TZOFFSETFROM:-0500
TZOFFSETTO:-0400
TZNAME:EDT
DTSTART:20190310T070000
END:DAYLIGHT
BEGIN:STANDARD
TZOFFSETFROM:-0400
TZOFFSETTO:-0500
TZNAME:EST
DTSTART:20191103T060000
END:STANDARD
END:VTIMEZONE
BEGIN:VEVENT
DTSTART;VALUE=DATE:20190904
DTEND;VALUE=DATE:20190905
DTSTAMP:20210401T091940
CREATED:20190902T155631Z
LAST-MODIFIED:20190902T155631Z
UID:172293-1567555200-1567641599@www.patriotguard.org
SUMMARY:Herman Augusta White
DESCRIPTION:Memorial\nHerman Augusta White  Veteran\nUSN – WWII\nPerry\, Oklahoma – 09-04-19\n\n\n\nABOUT THE MISSION: \nMr. White was born on December 1\, 1921\,. He served in the U.S. Navy in the Pacific Campaign. He was aboard the USS Muliphen. He joined the Navy on May 7\, 1945. This is a No One Attending mission. Meaning that he has no living relatives. The funeral home has arranged for the Honor Guard and the folding of the Flag. Mr. White donated his home and all his worldly possessions to the local Baptist Church. A Graveside service will be held Wednesday\, September 4\, 2019 at the Grace Hill Cemetery in Perry\, OK. There will be a moment of Silence and a Balloon release along with Military Honors.\n\n\nPRIMARY STAGING DETAILS: 09-04-19 \nStaging Time: 09:00  \nGrace Hill Cemetery\n500 Memorial Dr.\nPerry\, Oklahoma 73077\n\n\nRide Captain: \nJay (Jaybo) Clark\njaybo_pgr@yahoo.com\n\n\nSpecial Instructions: \nThere will be no briefing. We will post Flags around the pavilion.\n\n\nFlags & Water:\nFlags will be provided\nLarge Bike Flags will NOT be needed.\nWater WILL NOT be provided\, please bring your own.\n\nSubmitted By: Jay Clark \nPosition: Oklahoma Ride Captain \n\nNote: You do not have to own/ride a motorcycle or be a veteran to join\, and membership is Free. The only requirement is RESPECT! To subscribe to receive mission notices\, log into the National Site and click on the Members tab at the top. Select the Subscribe to PGR Missions option.\n Print This Page
URL:https://www.patriotguard.org/mission/herman-augusta-white/
CATEGORIES:Memorial
END:VEVENT
END:VCALENDAR