BEGIN:VCALENDAR
VERSION:2.0
PRODID:-//Patriot Guard Riders - ECPv5.3.2.1//NONSGML v1.0//EN
CALSCALE:GREGORIAN
METHOD:PUBLISH
X-WR-CALNAME:Patriot Guard Riders
X-ORIGINAL-URL:https://www.patriotguard.org
X-WR-CALDESC:Events for Patriot Guard Riders
BEGIN:VTIMEZONE
TZID:America/New_York
BEGIN:DAYLIGHT
TZOFFSETFROM:-0500
TZOFFSETTO:-0400
TZNAME:EDT
DTSTART:20190310T070000
END:DAYLIGHT
BEGIN:STANDARD
TZOFFSETFROM:-0400
TZOFFSETTO:-0500
TZNAME:EST
DTSTART:20191103T060000
END:STANDARD
END:VTIMEZONE
BEGIN:VEVENT
DTSTART;VALUE=DATE:20190608
DTEND;VALUE=DATE:20190609
DTSTAMP:20210405T051426
CREATED:20190605T160756Z
LAST-MODIFIED:20190605T160756Z
UID:163730-1559952000-1560038399@www.patriotguard.org
SUMMARY:Herbert T. Williams Jr.\,
DESCRIPTION:  \n\nHonor Mission\nHerbert T. Williams Jr.\, Veteran\nUSN\nNew Port Richey\, Florida  06-08-19\n\n\n \n\nABOUT THE MISSION: \nThe family of Herbert T. Williams\, Jr.\, 81\, has requested the Patriot Guard Riders presence as they show their final respects and lay their loved one to rest. Mr. Williams faithfully served his country in the U.S. Navy and completed two tours in Vietnam while assigned to the USS Kitty Hawk. Upon completing his military service\, Mr. Williams received an Honorable Discharge and during his time in service\, received a Vietnam Service Medal w/OLC\, Good Conduct Medal and a National Defense Service Medal. Please bring your 3X5 American flags and stand in honor and respect for our Navy hero.\n\n\nPRIMARY STAGING DETAILS: 06-08-19 \nStaging Time: 10:00 AM  \nDobies Funeral Home\n8825 Old County Road 54\nNew Port Richey\, Florida 34653\nhttps://goo.gl/maps/KaLHqycoNFyNzch68\n\n\nRide Captain: \nThomas “T-Man” Brown\nthomasbrowncpi@gmail.com\n727-667-6029\n\n\nSpecial Instructions: \n10:30 AM -Briefing\n11:00 AM – Service\nA Celebration of Life will be held after the service.\n\n\nFlags & Water:\nFlags will not be provided\nIf you have large bike flags\, please bring them.\nWater WILL NOT be provided\, please bring your own.\n\n\n\nSubmitted By: David Shelton \nPosition: Florida State Captain \n\nNote: You do not have to own/ride a motorcycle or be a veteran to join\, and membership is Free. The only requirement is RESPECT! To subscribe to receive mission notices\, log into the National Site and click on the Members tab at the top. Select the Subscribe to PGR Missions option.\n Print This Page
URL:https://www.patriotguard.org/mission/herbert-t-williams-jr/
CATEGORIES:Honor Mission
END:VEVENT
END:VCALENDAR