BEGIN:VCALENDAR
VERSION:2.0
PRODID:-//Patriot Guard Riders - ECPv5.3.2.1//NONSGML v1.0//EN
CALSCALE:GREGORIAN
METHOD:PUBLISH
X-WR-CALNAME:Patriot Guard Riders
X-ORIGINAL-URL:https://www.patriotguard.org
X-WR-CALDESC:Events for Patriot Guard Riders
BEGIN:VTIMEZONE
TZID:America/New_York
BEGIN:DAYLIGHT
TZOFFSETFROM:-0500
TZOFFSETTO:-0400
TZNAME:EDT
DTSTART:20190310T070000
END:DAYLIGHT
BEGIN:STANDARD
TZOFFSETFROM:-0400
TZOFFSETTO:-0500
TZNAME:EST
DTSTART:20191103T060000
END:STANDARD
END:VTIMEZONE
BEGIN:VEVENT
DTSTART;VALUE=DATE:20190821
DTEND;VALUE=DATE:20190822
DTSTAMP:20210402T125316
CREATED:20190819T204721Z
LAST-MODIFIED:20191107T164734Z
UID:171325-1566345600-1566431999@www.patriotguard.org
SUMMARY:Herbert Norman Biene
DESCRIPTION:Honor Mission\nHerbert Norman Biene\, Retired\nUSMC – Vietnam\nSpringfield\, Missouri – 08-21-19\n\n\n\nABOUT THE MISSION: \n\nThe family of USMC Master Gunnery Sargent Herbert Norman Beine has honored the Patriot Guard Riders with a request for an escort from the funeral home to our hero’s final resting place at the Missouri Veterans Cemetery\, Springfield\, MO and there to stand a flag line where full military honors will be rendered.\nHero Beine proudly and honorably served our country from September 1961 to September 1991. His service included 6 years of overseas assignments including several years in the Vietnam War. He rose to the rank of Master Gunnery Sergeant (E-9) and earned 2 National Defense Service Medals\, Certificate of Commendation\, Armed Forces Expeditionary Medal\, Navy Commendation Medal\, Meritorious Unit Commendation (twice)\, Humanitarian Service Medal\, Good Conduct Medal (10 times)\, Vietnam Service Meal (3 times)\, Presidential Unit Citation\, Combat Action Ribbon\, Navy Unit Commendation\, Republic of Vietnam Campaign Medal\, Republic of Vietnam Meritorious Unit Citation (Gallantry Cross)\, Overseas Service Ribbon\, Sea Service Deployment Ribbon\, Letter of Appreciation and Meritorious Service Medal. He retired after 30 years of service.\n\n\nPRIMARY STAGING DETAILS: 08-21-19 \nStaging Time: 12:45 pm\n \nWalnut Lawn Funeral Home\n2001 W. Walnut Lawn St.\nSpringfield\, Missouri 65807\n\n\nRide Captain: \nSteve Simko\n(210) 621-8623\ncsdsimko@sbcglobal.net\n\n\nSpecial Instructions: \nThe PGR has been requested to serve as urn bearers at the funeral home.\nStage: 12:30 pm\nBrief:  12:45 pm\, flag line to follow\nFinal Salute 1:15 pm\nEscort: 1:30 pm\nCommital: 2:00 pm\, Missouri Veterans Cemetery\, 5201 S.Southwood\, Springfield\, MO\, 65804.\nWeather Forecast: 86 deg.\, cloudy\, winds at 6 mph\, and 33% chance of rain.\n\n\nFlags & Water:\nFlags will be provided\nIf you have large bike flags\, please bring them.\nWater WILL NOT be provided\, please bring your own.\n\n\n  \n\n\nSubmitted By: steve simko \nPosition: Missouri Ride Captain \n\nNote: You do not have to own/ride a motorcycle or be a veteran to join\, and membership is Free. The only requirement is RESPECT! To subscribe to receive mission notices\, log into the National Site and click on the Members tab at the top. Select the Subscribe to PGR Missions option.\n Print This Page
URL:https://www.patriotguard.org/mission/herbert-norman-biene/
CATEGORIES:Honor Mission
END:VEVENT
END:VCALENDAR