BEGIN:VCALENDAR
VERSION:2.0
PRODID:-//Patriot Guard Riders - ECPv5.6.0//NONSGML v1.0//EN
CALSCALE:GREGORIAN
METHOD:PUBLISH
X-WR-CALNAME:Patriot Guard Riders
X-ORIGINAL-URL:https://www.patriotguard.org
X-WR-CALDESC:Events for Patriot Guard Riders
BEGIN:VTIMEZONE
TZID:America/New_York
BEGIN:DAYLIGHT
TZOFFSETFROM:-0500
TZOFFSETTO:-0400
TZNAME:EDT
DTSTART:20160313T070000
END:DAYLIGHT
BEGIN:STANDARD
TZOFFSETFROM:-0400
TZOFFSETTO:-0500
TZNAME:EST
DTSTART:20161106T060000
END:STANDARD
END:VTIMEZONE
BEGIN:VEVENT
DTSTART;TZID=America/New_York:20160811T090000
DTEND;TZID=America/New_York:20160811T110000
DTSTAMP:20210511T204222
CREATED:20160811T130000Z
LAST-MODIFIED:20191201T143712Z
UID:410015-1470906000-1470913200@www.patriotguard.org
SUMMARY:Herbert Franson
DESCRIPTION:The Patriot Guard Riders have been invited to stand in honor of Herbert Franson\, US Army Veteran\, for his Interment Service scheduled for Thursday\, 11 August at 11:30 AM at Ft. Logan National Cemetery 3698 S. Sheridan Blvd. Denver 80235 Pavilion B. \nMr. Franson served in the US Army from 1953-54. \n10:45 AM Stage in front of Ft. Logan Visitor’s Center \n11:00 AM Mission Briefing \n11:15 AM Depart for Pavilion B and set Flag Line \nDave ‘EZ’ McCabe will serve as Ride Captain. \nJerry ‘TopSnow’ Snowbarger will bring Flags.
URL:https://www.patriotguard.org/mission/herbert-franson/
CATEGORIES:Archive
END:VEVENT
END:VCALENDAR