BEGIN:VCALENDAR
VERSION:2.0
PRODID:-//Patriot Guard Riders - ECPv5.6.0//NONSGML v1.0//EN
CALSCALE:GREGORIAN
METHOD:PUBLISH
X-WR-CALNAME:Patriot Guard Riders
X-ORIGINAL-URL:https://www.patriotguard.org
X-WR-CALDESC:Events for Patriot Guard Riders
BEGIN:VTIMEZONE
TZID:America/New_York
BEGIN:DAYLIGHT
TZOFFSETFROM:-0500
TZOFFSETTO:-0400
TZNAME:EDT
DTSTART:20160313T070000
END:DAYLIGHT
BEGIN:STANDARD
TZOFFSETFROM:-0400
TZOFFSETTO:-0500
TZNAME:EST
DTSTART:20161106T060000
END:STANDARD
END:VTIMEZONE
BEGIN:VEVENT
DTSTART;TZID=America/New_York:20160628T090000
DTEND;TZID=America/New_York:20160628T110000
DTSTAMP:20210512T162704
CREATED:20160628T130000Z
LAST-MODIFIED:20191201T144745Z
UID:410989-1467104400-1467111600@www.patriotguard.org
SUMMARY:Herbert Ebarb\, USMC
DESCRIPTION:Herbert Ebarb\nWWII USMC\nZwolle\, La.\, 06-28-2016\n\n\n\nMr. Herbert Ebarb was born Feb. 21\, 1926 in Sabine Parish. He after high school he entered into the USMC at the beginning of WWII. After being Honorably Discharged\, he came back home to Zwolle where he was in the logging business. He is preceded in death by his wife. He is survived by five sons and three daughters. \nPRIMARY STAGING INFO – 06-28-2016:\n  Location:\nWarren Meadows Funeral Home\n1008 Obrie St.\nZwolle\, LA \n Staging Time:\n9:00 A.M. \n  Special Instructions:\nWe will escort Mr. Ebarb to St. Josephs Catholic Church about a mile away. After services we will then escort Mr. Ebarb to his final resting place at St. Anns Cemetery in Ebarb. About an 8 mile escort. \nRCIC:\nFreddie Grappe – fgrappe@bellsouth.net\n\nAssisting RCs: \n    Flags will be provided.\nLarge bike flags will be needed. \nWeather: \nHot!!! Be sure to hydrate night before!!!
URL:https://www.patriotguard.org/mission/herbert-ebarb-usmc/
CATEGORIES:Archive
END:VEVENT
END:VCALENDAR