BEGIN:VCALENDAR
VERSION:2.0
PRODID:-//Patriot Guard Riders - ECPv5.6.0//NONSGML v1.0//EN
CALSCALE:GREGORIAN
METHOD:PUBLISH
X-WR-CALNAME:Patriot Guard Riders
X-ORIGINAL-URL:https://www.patriotguard.org
X-WR-CALDESC:Events for Patriot Guard Riders
BEGIN:VTIMEZONE
TZID:America/New_York
BEGIN:DAYLIGHT
TZOFFSETFROM:-0500
TZOFFSETTO:-0400
TZNAME:EDT
DTSTART:20160313T070000
END:DAYLIGHT
BEGIN:STANDARD
TZOFFSETFROM:-0400
TZOFFSETTO:-0500
TZNAME:EST
DTSTART:20161106T060000
END:STANDARD
END:VTIMEZONE
BEGIN:VEVENT
DTSTART;TZID=America/New_York:20160609T090000
DTEND;TZID=America/New_York:20160609T110000
DTSTAMP:20210513T165147
CREATED:20160609T130000Z
LAST-MODIFIED:20191201T145337Z
UID:411518-1465462800-1465470000@www.patriotguard.org
SUMMARY:Henry Roger Stucker\, USN
DESCRIPTION:The family of Henry Roger Stucker (Hank) have asked the Patriot Guard Riders to stand in HONOR of their loved one.\n\nServices will be held on Thursday June 9\, 2016 at Speaks Chapel at 291 & 39th Street\, Independence\, MO.  Mr. Stucker honorable during WWII and in Korea at the rank of RDM2.  Mr. Stucker served on 4 different ships during his service. \nMr. Stucker entered  his final duty station on June 4\, 2016 at the young age of 89.  Military Honors at graveside.  Mr. Stucker leaves behind 2 children and a host of extended family and friends.\n\nThursday\, June 9\, 2016\nStaging: to set flags 8:00 a.m.\nRide Meeting: 8:15 a.m.\nStand Flag Line: 8:30 a.m. await Family\nVisitation: 9:00-10:00 a.m.\nServices: 10:00 a.m.\n\nEscort following services to Oak Ridge Memory Gardens\n291 & Salisbury Rd.\nIndependence\, MO\n\nSPECIAL NOTE: temps will start climbing into the 90’s. PLEASE PLEASE Hydrate. \n—\nbobsunshine@comcast.net
URL:https://www.patriotguard.org/mission/henry-roger-stucker-usn/
CATEGORIES:Archive
END:VEVENT
END:VCALENDAR