BEGIN:VCALENDAR
VERSION:2.0
PRODID:-//Patriot Guard Riders - ECPv5.6.0//NONSGML v1.0//EN
CALSCALE:GREGORIAN
METHOD:PUBLISH
X-WR-CALNAME:Patriot Guard Riders
X-ORIGINAL-URL:https://www.patriotguard.org
X-WR-CALDESC:Events for Patriot Guard Riders
BEGIN:VTIMEZONE
TZID:America/New_York
BEGIN:DAYLIGHT
TZOFFSETFROM:-0500
TZOFFSETTO:-0400
TZNAME:EDT
DTSTART:20160313T070000
END:DAYLIGHT
BEGIN:STANDARD
TZOFFSETFROM:-0400
TZOFFSETTO:-0500
TZNAME:EST
DTSTART:20161106T060000
END:STANDARD
END:VTIMEZONE
BEGIN:VEVENT
DTSTART;TZID=America/New_York:20160608T090000
DTEND;TZID=America/New_York:20160608T110000
DTSTAMP:20210513T165125
CREATED:20160608T130000Z
LAST-MODIFIED:20191201T145333Z
UID:411511-1465376400-1465383600@www.patriotguard.org
SUMMARY:Henry F. Palmer\, USAF\, Vietnam / Queensbury
DESCRIPTION:Please note that due to ongoing OPSEC concerns\, mission details are not shown in this posting. All specific details and updates have been sent to members directly via their e-mail address on file. \nThe wife of Henry F. Palmer has requested the participation of the Patriot Guard Riders in the escort and military honors funeral services for her husband. \nWhen/Where:\nWednesday June 8\, 2016 \nQueensbury – Schuylerville\, NY \nLRC:\nDan Nolin\ndan1nolin@yahoo.com \nHank served in the United States Air Force from 1965 to 1974\, serving one tour in Vietnam\, attaining the rank of Airman 1st Class.  He retired from Great Meadows Prison Facility as a prison guard after 30 years of service. He enjoyed music and dancing at the Native American Pow Wows\, old cars\, hunting and fishing with his family. \nThe Patriot Guard Riders will be honored to escort and stand for the service and life of our friend Airman 1st class Henry F. Palmer. \nDan Nolin\nSenior Ride Captain\ndan1nolin@yahoo.com\n518-361-6410
URL:https://www.patriotguard.org/mission/henry-f-palmer-usaf-vietnam-queensbury/
CATEGORIES:Archive
END:VEVENT
END:VCALENDAR