BEGIN:VCALENDAR
VERSION:2.0
PRODID:-//Patriot Guard Riders - ECPv5.6.0//NONSGML v1.0//EN
CALSCALE:GREGORIAN
METHOD:PUBLISH
X-WR-CALNAME:Patriot Guard Riders
X-ORIGINAL-URL:https://www.patriotguard.org
X-WR-CALDESC:Events for Patriot Guard Riders
BEGIN:VTIMEZONE
TZID:America/New_York
BEGIN:DAYLIGHT
TZOFFSETFROM:-0500
TZOFFSETTO:-0400
TZNAME:EDT
DTSTART:20160313T070000
END:DAYLIGHT
BEGIN:STANDARD
TZOFFSETFROM:-0400
TZOFFSETTO:-0500
TZNAME:EST
DTSTART:20161106T060000
END:STANDARD
END:VTIMEZONE
BEGIN:VEVENT
DTSTART;TZID=America/New_York:20160613T090000
DTEND;TZID=America/New_York:20160613T110000
DTSTAMP:20210513T153527
CREATED:20160613T130000Z
LAST-MODIFIED:20191201T145318Z
UID:411487-1465808400-1465815600@www.patriotguard.org
SUMMARY:Henry Alan Church-Smith\, USMC Veteran / Sequim
DESCRIPTION:Ladies and Gentlemen of the Patriot Guard Riders: \nOur Hero\, Cpl  Henry Alan “Pete” Church-Smith and his wife\, Missy\, have given us the  Honor of providing a RHG and Flag line to honor his life and service to  our nation while he is laid to rest.  Pete served in the USMC from 1961 –  64 as a Radio Relay Technician during the Cuban Missile Crisis.  He  received the Good Conduct Medal 1st Award.  Pete took a great deal of  pride in his military service and being a United States Marine was  evident in how he lived his life. \nPete is a PGR brother who has  stood the line for those who could no longer stand and now the time has  come for us to stand for him. \nPlease join me in paying final Honor and Respect to our Hero\, Cpl Henry Alan “Pete” Church-Smith. \nThis is a two part mission:  RHG and Flag line. \nThe RHG has been pre-selected. \nMISSION THREAD: \nMISSION DATE:\nMonday\, 13 June\, 2016 \nRHG STAGING:\nHi-Way 101 Diner\n392 Washington St.\nSequim\, WA  98382 \nMISSION PLAN FOR RHG:\n0745  RC’s arrive\n0800  Preselected RHG arrives\, signs in\, drain & fill\n0815  Mission brief\n0830  KSU to family home\n0900  KSU for I-5 meet-up\n1140  KSU for TNC\n1200  Arrive TNC\n1230  Service begins \nPrimary RC\nKelly Thomas\n360-461-3255\nmyk9karma@gmail.com \nSecond RC\nJim “Bikervet” Dickson\n360-628-3157\nbikervet4wapgr@live.com \nFLAG LINE STAGING:\nMcDonald’s\n23225 Maple Valley Black Diamond Rd SE\nMaple Valley\, WA  98038 \nMISSION PLAN FOR FLAG LINE:\n1115  RC & SV arrives\n1130  Riders sign-in\, drain and fill\n1145  Briefing\n1200  KSU\n1230  RHG\, Family & friends arrive for Service with Military Honors \nRC\nSabrina “Mother Hen” Casanova Brown\nsabrinacbrown@hotmail.com \nSV\nRobert “Beaconkeeper” Heili\nbeaconkeeper@pgrofwa.org
URL:https://www.patriotguard.org/mission/henry-alan-church-smith-usmc-veteran-sequim/
CATEGORIES:Archive
END:VEVENT
END:VCALENDAR