BEGIN:VCALENDAR
VERSION:2.0
PRODID:-//Patriot Guard Riders - ECPv5.3.2.1//NONSGML v1.0//EN
CALSCALE:GREGORIAN
METHOD:PUBLISH
X-WR-CALNAME:Patriot Guard Riders
X-ORIGINAL-URL:https://www.patriotguard.org
X-WR-CALDESC:Events for Patriot Guard Riders
BEGIN:VTIMEZONE
TZID:America/New_York
BEGIN:DAYLIGHT
TZOFFSETFROM:-0500
TZOFFSETTO:-0400
TZNAME:EDT
DTSTART:20190310T070000
END:DAYLIGHT
BEGIN:STANDARD
TZOFFSETFROM:-0400
TZOFFSETTO:-0500
TZNAME:EST
DTSTART:20191103T060000
END:STANDARD
END:VTIMEZONE
BEGIN:VEVENT
DTSTART;VALUE=DATE:20190610
DTEND;VALUE=DATE:20190611
DTSTAMP:20210404T235948
CREATED:20190608T140012Z
LAST-MODIFIED:20190608T140012Z
UID:164052-1560124800-1560211199@www.patriotguard.org
SUMMARY:Henderson English Jr.
DESCRIPTION:  \n\nHonor Mission\nHenderson English Jr.\, Veteran\nUSA – Vietnam\nPensacola\, Florida 06-10-19\n\n\n\nABOUT THE MISSION: \nThe family of SP4 Henderson English Jr. has invited the Patriot Guard to stand in his honor and to escort him to Barrancas National Cemetery\, NAS Pensacola\, Florida. SP4 English honorably served in the United States Army from April 1967 to Feb 1969 and was Medically Retired on 4 Feb 1969. SP4 English received the following rewards; National Defense Service Medal\, Vietnam Service Medal\, Vietnam Campaign Medal (W 60 device)\, Purple Heart medals (2)\, Bronze Stars (2).\n\n\nPRIMARY STAGING DETAILS: 06-10-19 \nStaging Time: 10:45 am\n \nWhataburger\n417 E. Gregory St\nPensacola\, Florida\n\n\nRide Captain: \nHarry Salzer\, (Old Doc)\n251 716 0417\nhorsin5@yahoo.com\n\n\nSpecial Instructions: \nNaval Air Station requires long sleeve shirts or jacket\, long trousers\, long fingered gloves\, DOT approved helmets\, leather footwear covering the ankles\, and appropriate eye protection while riding on board the base.\n\n11:30 am – Briefing for all riders\n11:45 am – KSU to Joe Morris & Son Funeral Home\n12:00 pm – Flag line\n12:30 pm – Roll time to Barrancas national Cemetery\n\n\nFlags & Water:\nFlags will be provided\nIf you have large bike flags\, please bring them.\nWater will be provided.\n  \n\nSubmitted By: Ray Doyle \nPosition: Florida Assistant State Captain \n\nNote: You do not have to own/ride a motorcycle or be a veteran to join\, and membership is Free. The only requirement is RESPECT! To subscribe to receive mission notices\, log into the National Site and click on the Members tab at the top. Select the Subscribe to PGR Missions option.\n Print This Page
URL:https://www.patriotguard.org/mission/henderson-english-jr/
CATEGORIES:Honor Mission
END:VEVENT
END:VCALENDAR