BEGIN:VCALENDAR
VERSION:2.0
PRODID:-//Patriot Guard Riders - ECPv5.3.2.1//NONSGML v1.0//EN
CALSCALE:GREGORIAN
METHOD:PUBLISH
X-WR-CALNAME:Patriot Guard Riders
X-ORIGINAL-URL:https://www.patriotguard.org
X-WR-CALDESC:Events for Patriot Guard Riders
BEGIN:VTIMEZONE
TZID:America/New_York
BEGIN:DAYLIGHT
TZOFFSETFROM:-0500
TZOFFSETTO:-0400
TZNAME:EDT
DTSTART:20190310T070000
END:DAYLIGHT
BEGIN:STANDARD
TZOFFSETFROM:-0400
TZOFFSETTO:-0500
TZNAME:EST
DTSTART:20191103T060000
END:STANDARD
END:VTIMEZONE
BEGIN:VEVENT
DTSTART;VALUE=DATE:20190928
DTEND;VALUE=DATE:20190929
DTSTAMP:20210401T130914
CREATED:20190927T143710Z
LAST-MODIFIED:20190927T143710Z
UID:176785-1569628800-1569715199@www.patriotguard.org
SUMMARY:Heinrich G. Kamnick
DESCRIPTION:Honor Mission\nHeinrich G. Kamnick\, Veteran\nUSA\nAzle\, Texas – 09-28-19\n\n\n \n\nABOUT THE MISSION: \nHenry Kamnick came to America at the age of twelve from his home in Germany. We honor Mr. Hamnick’s service in United Stated Army where he served as a helicopter mechanic.\n\n\nPRIMARY STAGING DETAILS: 09-28-19 \nStaging Time: 1:00 pm\n \nFirst Baptist Church of Castle Hills\n401 Beverly Road\nAzle\, Texas 76020\n\n\nRide Captain: \nWendy Ingersoll\ncalifbabe55@yahoo.com\n(817) 991-9021\n\n\nSpecial Instructions: \nMemorial Service Starting Time 2pmWe will stage at the church and assist the support person with the placement of flags\, if needed. After the mission brief has been given\, we will then man the flag line to welcome the family and guests of Mr. Kamnick. Just prior to the service start time\, the ride captain will present the certificate of appreciation\, after which time we will play taps\, then fold and present the flag to the family. Once the service begins\, we will retrieve the flags and return them to the support vehicle where they will be furled and stowed. After the post mission brief\, all riders will be dismissed.\n\nFlags & Water:\nFlags will be provided\nLarge Bike Flags will NOT be needed.\nWater will be provided.\n\n\n\nSubmitted By: Dan Mathys \nPosition: Texas Ride Captain \n\nNote: You do not have to own/ride a motorcycle or be a veteran to join\, and membership is Free. The only requirement is RESPECT! To subscribe to receive mission notices\, log into the National Site and click on the Members tab at the top. Select the Subscribe to PGR Missions option.\n Print This Page
URL:https://www.patriotguard.org/mission/heinrich-g-kamnick/
CATEGORIES:Honor Mission
END:VEVENT
END:VCALENDAR