BEGIN:VCALENDAR
VERSION:2.0
PRODID:-//Patriot Guard Riders - ECPv5.3.2.1//NONSGML v1.0//EN
CALSCALE:GREGORIAN
METHOD:PUBLISH
X-WR-CALNAME:Patriot Guard Riders
X-ORIGINAL-URL:https://www.patriotguard.org
X-WR-CALDESC:Events for Patriot Guard Riders
BEGIN:VTIMEZONE
TZID:America/New_York
BEGIN:DAYLIGHT
TZOFFSETFROM:-0500
TZOFFSETTO:-0400
TZNAME:EDT
DTSTART:20090308T070000
END:DAYLIGHT
BEGIN:STANDARD
TZOFFSETFROM:-0400
TZOFFSETTO:-0500
TZNAME:EST
DTSTART:20091101T060000
END:STANDARD
END:VTIMEZONE
BEGIN:VEVENT
DTSTART;TZID=America/New_York:20090501T090000
DTEND;TZID=America/New_York:20090501T110000
DTSTAMP:20210401T233802
CREATED:20090501T130000Z
LAST-MODIFIED:20191201T025813Z
UID:302878-1241168400-1241175600@www.patriotguard.org
SUMMARY:Heads Up.... Lewis Sullins\, USN WW II Veteran
DESCRIPTION:The family of Lewis Sullins has invited the Patriot Guard Riders to participate in the service for this US Navy World War II Veteran.  This is the uncle of our own\, Trish\, who goes by SilverStarTrish.  The funeral will be on Friday\, May 1st in the Rome area at 3:00 pm.  I will have the final details available sometime tomorrow morning after I talk with the funeral home.  Please make plans to attend if possible.  If you know you can be there and help out\, please let me know asap.  Thanks in advance. \nThe General- RCIC
URL:https://www.patriotguard.org/mission/heads-up-lewis-sullins-usn-ww-ii-veteran/
END:VEVENT
END:VCALENDAR