BEGIN:VCALENDAR
VERSION:2.0
PRODID:-//Patriot Guard Riders - ECPv5.6.0//NONSGML v1.0//EN
CALSCALE:GREGORIAN
METHOD:PUBLISH
X-WR-CALNAME:Patriot Guard Riders
X-ORIGINAL-URL:https://www.patriotguard.org
X-WR-CALDESC:Events for Patriot Guard Riders
BEGIN:VTIMEZONE
TZID:America/New_York
BEGIN:DAYLIGHT
TZOFFSETFROM:-0500
TZOFFSETTO:-0400
TZNAME:EDT
DTSTART:20160313T070000
END:DAYLIGHT
BEGIN:STANDARD
TZOFFSETFROM:-0400
TZOFFSETTO:-0500
TZNAME:EST
DTSTART:20161106T060000
END:STANDARD
END:VTIMEZONE
BEGIN:VEVENT
DTSTART;TZID=America/New_York:20160624T090000
DTEND;TZID=America/New_York:20160624T110000
DTSTAMP:20210513T183146
CREATED:20160624T130000Z
LAST-MODIFIED:20191201T144936Z
UID:411156-1466758800-1466766000@www.patriotguard.org
SUMMARY:Harry W. Lawser\, USA
DESCRIPTION:Honor Mission\nM Sgt Harry W. Lawser\nUS Army\, WW II\nElwood\, IL\n24 June 2016\n\n\nThe family of Master Sergeant Harry W. Lawser has asked the PGR to stand a flag line in his honor at Abraham Lincoln National Cemetery. Harry served in the US Army  from 1941 til 1945. He served over in Eastern Europe in WW II and received the Victory Medal\, American Defense Service Ribbon w/ 3 Bronze Battle Stars\, 2 Overseas Service Ribbons\, 1 Service Stripe Good Conduct Medal.  Please come out and show and give this Veteran the respect that he so well deserves. \nStaging : 12:30 PM \nPlace : \nAbraham Lincoln National Cemetery\n20953 W. Hoff Rd\nElwood\, IL \nALNC Service :  1:00 PM\n\nSRC : Rodney Swinson\nrodswinson1021@yahoo.com\n708-205-2151   Cell
URL:https://www.patriotguard.org/mission/harry-w-lawser-usa/
CATEGORIES:Archive
END:VEVENT
END:VCALENDAR