BEGIN:VCALENDAR
VERSION:2.0
PRODID:-//Patriot Guard Riders - ECPv5.6.0//NONSGML v1.0//EN
CALSCALE:GREGORIAN
METHOD:PUBLISH
X-WR-CALNAME:Patriot Guard Riders
X-ORIGINAL-URL:https://www.patriotguard.org
X-WR-CALDESC:Events for Patriot Guard Riders
BEGIN:VTIMEZONE
TZID:America/New_York
BEGIN:DAYLIGHT
TZOFFSETFROM:-0500
TZOFFSETTO:-0400
TZNAME:EDT
DTSTART:20160313T070000
END:DAYLIGHT
BEGIN:STANDARD
TZOFFSETFROM:-0400
TZOFFSETTO:-0500
TZNAME:EST
DTSTART:20161106T060000
END:STANDARD
END:VTIMEZONE
BEGIN:VEVENT
DTSTART;TZID=America/New_York:20160824T090000
DTEND;TZID=America/New_York:20160824T110000
DTSTAMP:20210511T184027
CREATED:20160824T130000Z
LAST-MODIFIED:20191201T143409Z
UID:409732-1472029200-1472036400@www.patriotguard.org
SUMMARY:Harry R. Ward
DESCRIPTION:The family of Harry R. Ward has requested the participation of the Patriot Guard Riders in his military honors funeral. \nHarry was a graduate of Hudson Falls High School\, Class of 1953 where he was very active in sports\, better known as “Crazy legs” due to his talents on the football field. \nHe proudly joined the United States Marine Corps and was honorably discharged as a Sergeant. \nWhen/Where:\nWednesday\, August 24\, 2016\nQueensbury / Schuylerville\, NY \nLRC:\nGene Jones\nrem2arms@aol.com
URL:https://www.patriotguard.org/mission/harry-r-ward/
CATEGORIES:Archive
END:VEVENT
END:VCALENDAR