BEGIN:VCALENDAR
VERSION:2.0
PRODID:-//Patriot Guard Riders - ECPv5.6.0//NONSGML v1.0//EN
CALSCALE:GREGORIAN
METHOD:PUBLISH
X-WR-CALNAME:Patriot Guard Riders
X-ORIGINAL-URL:https://www.patriotguard.org
X-WR-CALDESC:Events for Patriot Guard Riders
BEGIN:VTIMEZONE
TZID:America/New_York
BEGIN:DAYLIGHT
TZOFFSETFROM:-0500
TZOFFSETTO:-0400
TZNAME:EDT
DTSTART:20160313T070000
END:DAYLIGHT
BEGIN:STANDARD
TZOFFSETFROM:-0400
TZOFFSETTO:-0500
TZNAME:EST
DTSTART:20161106T060000
END:STANDARD
END:VTIMEZONE
BEGIN:VEVENT
DTSTART;TZID=America/New_York:20160815T090000
DTEND;TZID=America/New_York:20160815T110000
DTSTAMP:20210512T005125
CREATED:20160815T130000Z
LAST-MODIFIED:20191201T143629Z
UID:409947-1471251600-1471258800@www.patriotguard.org
SUMMARY:Harry McFadden\, USA(RET)
DESCRIPTION:The Patriot Guard Riders have been invited to stand in honor of Chaplain Harry McFadden\, US Army (Ret) Vietnam Veteran for his Interment Service scheduled on Monday\, 15 August at 1:30 PM at Ft. Logan National Cemetery 3698 S. Sheridan Blvd. Denver 80235\, Pavilion B. \nChaplain McFadden was born on January 30\, 1949 in Camden\, NJ and passed on August 4\, 2016 in CO Springs. He served in the US Army from June 5\, 1968-73 and in the US Army Reserve from 73-77 assigned to Ft. Carson as a Mechanical Supply Clerk. He attended Nazarene Bible College and became an ordained Chaplain after completing Chaplain Training at Ft. Monmouth\, NJ in 1981. In 1984 he went back to school and into the Army earning his second degree from Nazarene Bible College graduating in 1987. He served as Volunteer Chaplain at Evans Army Community Hospital on Ft. Carson for 5 years. Following his retirement from the military\, he was employed as a Sales Representative at Red Letter Publishing for 20 years. Chaplain Mac was a member of the Christian Knights\, An American Legion Chaplain\, past Post 209 Commander\, past Post 38 Chaplain\, VFW and TREA member. He was preceded in death by his wife\, Judy\, on July 12\, 2014. He is survived by his daughter and granddaughter. \n12:45 PM Stage in front of Ft. Logan Visitor’s Center\n1:00 PM Mission Briefing\n1:15 PM Depart for Pavilion B to set Flag line \nDave ‘Capt. Slow’ will serve as Ride Captain. \nFlags will be needed for this mission.
URL:https://www.patriotguard.org/mission/harry-mcfadden-usaret/
CATEGORIES:Archive
END:VEVENT
END:VCALENDAR