BEGIN:VCALENDAR
VERSION:2.0
PRODID:-//Patriot Guard Riders - ECPv5.3.2.1//NONSGML v1.0//EN
CALSCALE:GREGORIAN
METHOD:PUBLISH
X-WR-CALNAME:Patriot Guard Riders
X-ORIGINAL-URL:https://www.patriotguard.org
X-WR-CALDESC:Events for Patriot Guard Riders
BEGIN:VTIMEZONE
TZID:America/New_York
BEGIN:DAYLIGHT
TZOFFSETFROM:-0500
TZOFFSETTO:-0400
TZNAME:EDT
DTSTART:20210314T070000
END:DAYLIGHT
BEGIN:STANDARD
TZOFFSETFROM:-0400
TZOFFSETTO:-0500
TZNAME:EST
DTSTART:20211107T060000
END:STANDARD
END:VTIMEZONE
BEGIN:VEVENT
DTSTART;VALUE=DATE:20210409
DTEND;VALUE=DATE:20210410
DTSTAMP:20210405T172828
CREATED:20210401T195943Z
LAST-MODIFIED:20210401T195943Z
UID:573587-1617926400-1618012799@www.patriotguard.org
SUMMARY:Harry George Lisberger Jr
DESCRIPTION:Honor Mission\nHarry George Lisberger Jr\, Veteran\nUSN – WWII\nMULTI-CITY Spring Hill\, Florida 04-09-21\n\n\n\nABOUT THE MISSION: \nThe family of S2C Lisberger\, 94\, has requested the Patriot Guard Riders presence as they show their final respects and lay their loved one to rest. Harry faithfully served his country in the US Navy. Upon completion of his service\, Harry received an Honorable Discharge and during his time in service\, awarded the Victory Medal\, American Theater Medal and the Asiatic Pacific Medal. Please bring your 3 X 5 American flags and stand in honor and respect for our hero and his family. Face masks are mandatory and social distancing will be observed.\n\nObituary: https://tinyurl.com/4utha8e8\n\n\nPRIMARY STAGING DETAILS: 04-09-21 \nStaging Time: 9:00 AM  \nSt Francis X. Cabrini Parish Catholic Church\n5030 Mariner Blvd\nhttps://tinyurl.com/f5athujh\nSpring Hill\, Florida 34609\n\n\nRide Captain: \nDoug “Slick” Mobley\ndmobley495@aol.com\n813-480-6459\n\n\nSpecial Instructions: \nFollowing the service there will be an Escort to FNC\n\n09:15 AM – Brief\n10:00 AM – Service\nFlag Line as directed by the RC\nKSU for FNC following the service\n\n\nFlags & Water:\nFlags will not be provided\nIf you have large bike flags\, please bring them.\nWater WILL NOT be provided\, please bring your own.\n\nSTAGING #2 DETAILS: 04-09-21 \nStaging Time: 11:45 AM  \nFlorida National Cemetery\n6502 SW 102nd Ave\ntinyurl.com/255l32bc\nBushnell\, Florida 33513\n\n\nRide Captain: \nRoger “Shoeless” Shoemaker\nrj43shoe@gmail.com\n352-445-8775\n\n\nSpecial Instructions: \n12:00 PM – Brief\n12:30 PM – Service\nFlag Line as directed by the RC\n\n\nFlags & Water:\nFlags will not be provided\nLarge Bike Flags will NOT be needed.\nWater WILL NOT be provided\, please bring your own.\n  \n\n\n\nSubmitted By: Bernie Conner \nPosition: Florida Assistant State Captain \n\nNote: You do not have to own/ride a motorcycle or be a veteran to join\, and membership is Free. The only requirement is RESPECT! To subscribe to receive mission notices\, log into the National Site and click on the Members tab at the top. Select the Subscribe to PGR Missions option.\n Print This Page
URL:https://www.patriotguard.org/mission/harry-george-lisberger-jr/
CATEGORIES:Honor Mission
END:VEVENT
END:VCALENDAR