BEGIN:VCALENDAR
VERSION:2.0
PRODID:-//Patriot Guard Riders - ECPv5.3.2.1//NONSGML v1.0//EN
CALSCALE:GREGORIAN
METHOD:PUBLISH
X-WR-CALNAME:Patriot Guard Riders
X-ORIGINAL-URL:https://www.patriotguard.org
X-WR-CALDESC:Events for Patriot Guard Riders
BEGIN:VTIMEZONE
TZID:America/New_York
BEGIN:DAYLIGHT
TZOFFSETFROM:-0500
TZOFFSETTO:-0400
TZNAME:EDT
DTSTART:20190310T070000
END:DAYLIGHT
BEGIN:STANDARD
TZOFFSETFROM:-0400
TZOFFSETTO:-0500
TZNAME:EST
DTSTART:20191103T060000
END:STANDARD
END:VTIMEZONE
BEGIN:VEVENT
DTSTART;VALUE=DATE:20190921
DTEND;VALUE=DATE:20190922
DTSTAMP:20210401T111538
CREATED:20190920T172551Z
LAST-MODIFIED:20190920T172724Z
UID:175734-1569024000-1569110399@www.patriotguard.org
SUMMARY:Harold W. Baker
DESCRIPTION:Honor Mission\nHarold W. Baker\, Veteran\nUSAF – Vietnam\nMarshfield\, Missouri – 09-21-19\n\n\n\nABOUT THE MISSION: \nAfter graduation from high school\, hero Baker entered the USAF\, after his service he married and moved to Seymour\, MO and became a machinist with a local company then became a Quality Control Specialist. He retired from Avatar Industries in Marshfield\, MO.\n\n\nPRIMARY STAGING DETAILS: 09-21-19 \nStaging Time: 1:00 pm  \nFraker Funeral Home\n1131 State Hwy A\nMarshfield\, Missouri\n\n\nRide Captain: \nKent McGregor\n(850) 544-6616 c\nMcgregor.kent@gmail.com\n\n\nSpecial Instructions: \nSTAGE: 1:00p\nBRIEF: 1:15p\nFLAG LINE: 1:30p\nSERVICE: 2:00p\nFINAL SALUTE and ESCORT at conclusion of service to Seymour Masonic Cemetery\, (W. Clinton Ave & W. Steel St.\, Seymour\, MO (approx.. 17 mi/25 min)\nWEATHER FORECAST: 81° and 0% chance of precipitation\nGROUP RIDE FROM SPRINGFIELD: 12:00p:\nStage at Kum & Go\nHwy 65 & E. Kearney Rd.\n12:15p: KSU to Fraker Funeral Home\, Marshfield\, MO\n\n\nFlags & Water:\nFlags will be provided\nIf you have large bike flags\, please bring them.\nWater will be provided.\n\n\nSubmitted By: Kent McGregor \nPosition: Missouri Ride Captain \n\nNote: You do not have to own/ride a motorcycle or be a veteran to join\, and membership is Free. The only requirement is RESPECT! To subscribe to receive mission notices\, log into the National Site and click on the Members tab at the top. Select the Subscribe to PGR Missions option.\n Print This Page
URL:https://www.patriotguard.org/mission/harold-w-baker/
CATEGORIES:Honor Mission
END:VEVENT
END:VCALENDAR