BEGIN:VCALENDAR
VERSION:2.0
PRODID:-//Patriot Guard Riders - ECPv5.3.2.1//NONSGML v1.0//EN
CALSCALE:GREGORIAN
METHOD:PUBLISH
X-WR-CALNAME:Patriot Guard Riders
X-ORIGINAL-URL:https://www.patriotguard.org
X-WR-CALDESC:Events for Patriot Guard Riders
BEGIN:VTIMEZONE
TZID:America/New_York
BEGIN:DAYLIGHT
TZOFFSETFROM:-0500
TZOFFSETTO:-0400
TZNAME:EDT
DTSTART:20210314T070000
END:DAYLIGHT
BEGIN:STANDARD
TZOFFSETFROM:-0400
TZOFFSETTO:-0500
TZNAME:EST
DTSTART:20211107T060000
END:STANDARD
END:VTIMEZONE
BEGIN:VEVENT
DTSTART;VALUE=DATE:20210403
DTEND;VALUE=DATE:20210404
DTSTAMP:20210405T172704
CREATED:20210402T111725Z
LAST-MODIFIED:20210402T111926Z
UID:573633-1617408000-1617494399@www.patriotguard.org
SUMMARY:Harold Taylor
DESCRIPTION:Honor Mission\nHarold Taylor\, Veteran\nUSA \, Vietnam\nJackson\, Mississippi – 04-03-21\n\n\n\nABOUT THE MISSION: \nSP4 Taylor proudly and honorably served in the Army three years\, including 18 months in Vietnam with the Signal Corp. His last duty assignment was HHC 548th Supply and Service Bn\, Third U.S. Army as a Communications Ctr Specialist. His medals and badges include National Defense Service Medal; Vietnam Service Medal; Vietnam Campaign Service Medal w/3 Overseas Bars; Sharpshooter Badge M 14; and Sharpshooter Badge M 16.\n\n\nPRIMARY STAGING DETAILS: 04-03-21 \nStaging: 12:30 PM\n \nNew Horizon Church International\n1770 Ellis Ave.\nJackson\, Mississippi 39204\n\n\nRide Captain: \nRoger “Roadranger” Barrett\n601-806-5205\n\n\nSpecial Instructions: \nStage: 12:30 PM\nFlag-line: 1:00 PM\, visitation\nAt 1:15 PM\, two PGR will ride to his home at 5559 Delmonico Dr\, Jackson\, to escort (with LEO) his family to the church.\nService: 2:00 PM\, following the service PGR will escort SP4 Taylor to his final duty station at Autumn Woods Memorial Cemetery\, 4000 W. Northside Dr\, Jackson 39209.\nPGR will stand a silent flag-line for graveside service with military honors.\n\n\nFlags & Water:\nFlags will be provided\nIf you have large bike flags\, please bring them.\nWater WILL NOT be provided\, please bring your own.\n\nSubmitted By: Roger Barrett \nPosition: Mississippi State Captain \n\nNote: You do not have to own/ride a motorcycle or be a veteran to join\, and membership is Free. The only requirement is RESPECT! To subscribe to receive mission notices\, log into the National Site and click on the Members tab at the top. Select the Subscribe to PGR Missions option.\n Print This Page
URL:https://www.patriotguard.org/mission/harold-taylor/
CATEGORIES:Honor Mission
END:VEVENT
END:VCALENDAR