BEGIN:VCALENDAR
VERSION:2.0
PRODID:-//Patriot Guard Riders - ECPv5.6.0//NONSGML v1.0//EN
CALSCALE:GREGORIAN
METHOD:PUBLISH
X-WR-CALNAME:Patriot Guard Riders
X-ORIGINAL-URL:https://www.patriotguard.org
X-WR-CALDESC:Events for Patriot Guard Riders
BEGIN:VTIMEZONE
TZID:America/New_York
BEGIN:DAYLIGHT
TZOFFSETFROM:-0500
TZOFFSETTO:-0400
TZNAME:EDT
DTSTART:20160313T070000
END:DAYLIGHT
BEGIN:STANDARD
TZOFFSETFROM:-0400
TZOFFSETTO:-0500
TZNAME:EST
DTSTART:20161106T060000
END:STANDARD
END:VTIMEZONE
BEGIN:VEVENT
DTSTART;TZID=America/New_York:20160711T090000
DTEND;TZID=America/New_York:20160711T110000
DTSTAMP:20210513T001107
CREATED:20160711T130000Z
LAST-MODIFIED:20191201T144456Z
UID:410726-1468227600-1468234800@www.patriotguard.org
SUMMARY:Harold Newell\, 80\, USA Veteran / St. Charles
DESCRIPTION:It is a most distinct honor and a privilege for the Patriot Guard Riders\, at the family’s request\, to stand a solemn flag line for United States Army veteran Harold Newell\, 80\, and to escort him to his final resting place at Jefferson Barracks National Cemetery with full military honors.  Veteran Newell proudly served in the US Army from 1958 to 1961 in the 206th US Army Signal Corps.  US Army Hero Newell attained the rank of PFC (E-3). \nObituary:   http://www.stygar.com/memsol.cgi?user_id=1825201 \nPFC Newell\, a grateful nation thanks you and is indebted to you for your honorable service.  Your sacrifices grant us the freedoms we continue to enjoy to this very day.  Thank you and Godspeed. \nStage:       8:10 AM\, Monday\, 11 July\, 2016\nLocation:   Stygar Mid Rivers Funeral Home and Crematory\n5987 Mid Rivers Mall Dr.\nSt. Charles\, MO  63304\n(40/64 West\, 141 North\, 364 West\, exit 8B Mid Rivers Mall Dr. North) \nFlag line:   8:15 AM – 9:00 AM \nService:     9:00 AM \nEscort:      to Jefferson Barracks National Cemetery. Arrival: 10:30 AM \nThe current extended forecast for Monday: 77º – 84ºF & a 27% chance of rain.  Cars are always welcome.  Please hydrate much more than you think necessary. \nFlags and Support:    Andy Klein\nRide Captain:            Dan “Lt. Dan” Doerer\,   (314) 576-5856\,  j_d_doerer@att.net
URL:https://www.patriotguard.org/mission/harold-newell-80-usa-veteran-st-charles/
CATEGORIES:Archive
END:VEVENT
END:VCALENDAR