BEGIN:VCALENDAR
VERSION:2.0
PRODID:-//Patriot Guard Riders - ECPv5.3.2.1//NONSGML v1.0//EN
CALSCALE:GREGORIAN
METHOD:PUBLISH
X-WR-CALNAME:Patriot Guard Riders
X-ORIGINAL-URL:https://www.patriotguard.org
X-WR-CALDESC:Events for Patriot Guard Riders
BEGIN:VTIMEZONE
TZID:America/New_York
BEGIN:DAYLIGHT
TZOFFSETFROM:-0500
TZOFFSETTO:-0400
TZNAME:EDT
DTSTART:20190310T070000
END:DAYLIGHT
BEGIN:STANDARD
TZOFFSETFROM:-0400
TZOFFSETTO:-0500
TZNAME:EST
DTSTART:20191103T060000
END:STANDARD
END:VTIMEZONE
BEGIN:VEVENT
DTSTART;VALUE=DATE:20190920
DTEND;VALUE=DATE:20190921
DTSTAMP:20210401T121405
CREATED:20190917T175637Z
LAST-MODIFIED:20190917T175637Z
UID:174599-1568937600-1569023999@www.patriotguard.org
SUMMARY:Harold K. Lunde
DESCRIPTION:Honor Mission\nHarold K. Lunde\, Veteran\nUSA – WWII\nTacoma\, Washington – 09-20-19\n\n\n\nABOUT THE MISSION: \nLadies and Gentlemen of the Patriot Guard Riders\, we have been invited to honor and pay respects to PFC Harold K. Lunde. PFC Lunde was born in Glendive\, Mt. on the 26th of December\, 1924. He was a farmer before enlisting in the US ARMY in September\, 1944. His military occupation was infantry and was also airborne qualified. Assigned to the “occupation” force in Japan with the 101st Airborne\, his job was searching for remaining gun emplacements and hiding Japanese soldiers. He was awarded the Parachute Qualification Badge\, Army of Occupation Medal\, WW-II Victory Medal\, Asiatic Pacific Service Medal\, and Good Conduct Medal. Harold was married twice\, both deceased\, and had 6 children. He worked at Ft. Lewis as a locksmith and machine repair. He was a “proud” American and known to display flags outside his home and inside as well. He was also an accomplished accordion player and performed with many local groups. Please join us in honoring another of our Nations Heroes.\n\n\nPRIMARY STAGING DETAILS: 09-20-19 \nStaging Time: 1:15 PM\n \nEagle Leather\n10222 South Tacoma Way\nTacoma\, Washington 98499\n\n\nRide Captain: \nLyall Smith\n(lyalls@aol.com\n360-791-4639.\n\nRCiT- Mike Collins (Ironhorse15_444@msn.com) 360-871-1474\nSV- Veronica “Vee” Port (veronicaport@hotmail.com)\n\n\nSpecial Instructions: \n1:00 – RC/SV arrive\n1:15 – Riders arrive and sign in\n1:30 – Mission Brief\n1:45 – KSU\n2:00 – Flag Line in place\n2:30 – Service begins\n2:45 – Service ends.\nWeather is forecast to be in the upper 60s at that time40% rain forecast.\nCages always welcome.\n\n\nFlags & Water:\nFlags will be provided\nLarge Bike Flags will NOT be needed.\nWater will be provided.\n\n\n\nSubmitted By: Doug Shepard \nPosition: Washington Ride Captain \n\nNote: You do not have to own/ride a motorcycle or be a veteran to join\, and membership is Free. The only requirement is RESPECT! To subscribe to receive mission notices\, log into the National Site and click on the Members tab at the top. Select the Subscribe to PGR Missions option.\n Print This Page
URL:https://www.patriotguard.org/mission/harold-k-lunde/
CATEGORIES:Honor Mission
END:VEVENT
END:VCALENDAR