BEGIN:VCALENDAR
VERSION:2.0
PRODID:-//Patriot Guard Riders - ECPv5.6.0//NONSGML v1.0//EN
CALSCALE:GREGORIAN
METHOD:PUBLISH
X-WR-CALNAME:Patriot Guard Riders
X-ORIGINAL-URL:https://www.patriotguard.org
X-WR-CALDESC:Events for Patriot Guard Riders
BEGIN:VTIMEZONE
TZID:America/New_York
BEGIN:DAYLIGHT
TZOFFSETFROM:-0500
TZOFFSETTO:-0400
TZNAME:EDT
DTSTART:20160313T070000
END:DAYLIGHT
BEGIN:STANDARD
TZOFFSETFROM:-0400
TZOFFSETTO:-0500
TZNAME:EST
DTSTART:20161106T060000
END:STANDARD
END:VTIMEZONE
BEGIN:VEVENT
DTSTART;TZID=America/New_York:20160718T090000
DTEND;TZID=America/New_York:20160718T110000
DTSTAMP:20210512T210520
CREATED:20160718T130000Z
LAST-MODIFIED:20191201T144334Z
UID:410603-1468832400-1468839600@www.patriotguard.org
SUMMARY:Harold Fremont Steele\, Jr.
DESCRIPTION:MISSION BLAST FINAL ITINERARY \nPatriot’s Name:  Harold Fremont “Buddy” Steele\, Jr.\nMission Type:  Funeral\nMilitary Branch:  United States Marine Corps\nMission Date:  Monday July 18\, 2016\nStaging Time:  09:00\nBriefing Time:  09:30\nIn Position Time:  09:45\nHNC  Gate Time: 10:15  (will have confirmation at briefing) \nStaging Location:  Houston National Cemetery (Hemicycle Parking Lot – \n10410 Veterans Memorial Drive Houston\, Tx.  77038 \nMission Details:  Flag Bike Escort of family from Admin. Bldg. to shelter needed.   We will have a standing flag line already in place to receive family at the shelter. (Shelter identified at briefing) \nObituary : Harold “Buddy “ Steele served as a Marine helicopter and fixed wing aircraft engine mechanic and received his Honorable Discharge from the Marine Corps in 1979. Harold’s wife\, Monica\, their 3 children and 1 granddaughter are left to mourn his passing along with numerous friends.  \nMission Lead:  Harold Woolley RC\nPhone number:  281-413-0789\nE-mail address:  woolley.h@sbcglobal.net\n\nMission Second:  George Pelkey RC\nPhone Number:  713-376-2812\nE-mail address:  georgepelkey@prodigy.net\n\nSupport Vehicle:  John LePage SV-RCA\nPhone Number:  713-560-3173\nE-Mail address:  johnlepage@sbcglobal.net \nWeather Forecast:   Very Hot & Humid\,…20% chance of showers (verify conditions day of mission) \n*Please hydrate well before mission\,  during the mission\,  and after the mission
URL:https://www.patriotguard.org/mission/harold-fremont-steele-jr/
CATEGORIES:Archive
END:VEVENT
END:VCALENDAR