BEGIN:VCALENDAR
VERSION:2.0
PRODID:-//Patriot Guard Riders - ECPv5.6.0//NONSGML v1.0//EN
CALSCALE:GREGORIAN
METHOD:PUBLISH
X-WR-CALNAME:Patriot Guard Riders
X-ORIGINAL-URL:https://www.patriotguard.org
X-WR-CALDESC:Events for Patriot Guard Riders
BEGIN:VTIMEZONE
TZID:America/New_York
BEGIN:DAYLIGHT
TZOFFSETFROM:-0500
TZOFFSETTO:-0400
TZNAME:EDT
DTSTART:20160313T070000
END:DAYLIGHT
BEGIN:STANDARD
TZOFFSETFROM:-0400
TZOFFSETTO:-0500
TZNAME:EST
DTSTART:20161106T060000
END:STANDARD
END:VTIMEZONE
BEGIN:VEVENT
DTSTART;TZID=America/New_York:20160715T090000
DTEND;TZID=America/New_York:20160715T110000
DTSTAMP:20210512T131814
CREATED:20160715T130000Z
LAST-MODIFIED:20191201T144352Z
UID:410631-1468573200-1468580400@www.patriotguard.org
SUMMARY:Harold Fremont Steele\, Jr.\, USMC Veteran /  Katy
DESCRIPTION:Patriot’s Name:  Harold Fremont Steele\, Jr. (aka”Buddy”)\n\nMission  Type: Funeral Service\n\nMilitary Branch:  United States Marine Corps \nMission Date:  Friday July 15\n\n  Staging Time: 2:00\n\nBriefing Time: 2:15 \nIn Position Time : 2:30 \nStaging Address:  Schmidt Funeral Home\, 1508 East Ave\,  Katy\, Texas  77494\n\nMission details:  Flag Line at funeral home before service.  (service begins at 3:00) \nObituary: Our veteran\, Harold “Buddy” Steele served as a Marine helicopter and  fixed wing engine mechanic and received his Honorable Discharge from  the United States Marine Corps in 1979. \nHarold’s wife Monica\, their 3  children and 1 granddaughter are left to mourn his passing along with  his numerous friends.    \n\nMission Lead:  Harold Woolley RC\nRC Phone number:  281-413-0789\nRC E-mail address:  woolley.h@sbcglobal.net  \nMission Second:  Ken Strube\nRC Phone number:  281-250-7659\nRC E-mail address:   kstrube1@windstream.net \nSupport Vehicle:  Ken Strube      \nWeather Forecast :  Very Hot & Humid…20% chance of showers (verify conditions day of mission)\n\n*Please hydrate well before mission\, during the mission\, and after the mission\n\n*Interment:  Monday July 18\,  2016 at Houston National Cemetery
URL:https://www.patriotguard.org/mission/harold-fremont-steele-jr-usmc-veteran-katy/
CATEGORIES:Archive
END:VEVENT
END:VCALENDAR