BEGIN:VCALENDAR
VERSION:2.0
PRODID:-//Patriot Guard Riders - ECPv5.6.0//NONSGML v1.0//EN
CALSCALE:GREGORIAN
METHOD:PUBLISH
X-WR-CALNAME:Patriot Guard Riders
X-ORIGINAL-URL:https://www.patriotguard.org
X-WR-CALDESC:Events for Patriot Guard Riders
BEGIN:VTIMEZONE
TZID:America/New_York
BEGIN:DAYLIGHT
TZOFFSETFROM:-0500
TZOFFSETTO:-0400
TZNAME:EDT
DTSTART:20160313T070000
END:DAYLIGHT
BEGIN:STANDARD
TZOFFSETFROM:-0400
TZOFFSETTO:-0500
TZNAME:EST
DTSTART:20161106T060000
END:STANDARD
END:VTIMEZONE
BEGIN:VEVENT
DTSTART;TZID=America/New_York:20160805T090000
DTEND;TZID=America/New_York:20160805T110000
DTSTAMP:20210512T024123
CREATED:20160805T130000Z
LAST-MODIFIED:20191201T143832Z
UID:410139-1470387600-1470394800@www.patriotguard.org
SUMMARY:Harold C. Vernon
DESCRIPTION:The family of SP4 Harold C. “Sonny” Vernon\, US Army Vietnam Era Veteran\, has asked the Patriot Guard Riders to attend his memorial service on Friday\, 5 August 16 at 1000 hours (10:00 am) at the Solace Church\, 7314 West 41st Street in Tulsa (Berryhill\, South of the TCC West Campus).  After the service\, we will escort the Hero to Bixby Cemetery at the southwest corner of 151st Street South (Highway 67) and South Sheridan Road in Bixby\, Oklahoma.  Military and PGR honors will be performed at the church.\n \nDate:  Friday\, 5 August 16\n \nStaging:  0845 hours (8:45 am)\nDaylight Donuts\n4092 South 57th West Avenue\, Tulsa\n(Northwest corner of West 41st Street and South 57th West Avenue)\n \nBriefing:  0900 hours (9:00 am)\nYOU MUST ATTEND THE BRIEFING IN ORDER TO RIDE TOGETHER TO THE CHURCH AND IN THE ESCORT!\n \nKSU:  0915 hours (9:15 am)\n \nFlag line:  Upon arrival at Solace Church\n \nWeather:  HOT!  High of 100 degrees\, 0% chance of rain.  Be sure to hydrate and ride within your abilities.                                                                                                                                                                  \n \nRCIC:\nJeff “Jug Jockson” Smith\n918-355-8693\nsongsmithrecords@cox.net
URL:https://www.patriotguard.org/mission/harold-c-vernon/
CATEGORIES:Archive
END:VEVENT
END:VCALENDAR