BEGIN:VCALENDAR
VERSION:2.0
PRODID:-//Patriot Guard Riders - ECPv5.6.0//NONSGML v1.0//EN
CALSCALE:GREGORIAN
METHOD:PUBLISH
X-WR-CALNAME:Patriot Guard Riders
X-ORIGINAL-URL:https://www.patriotguard.org
X-WR-CALDESC:Events for Patriot Guard Riders
BEGIN:VTIMEZONE
TZID:America/New_York
BEGIN:DAYLIGHT
TZOFFSETFROM:-0500
TZOFFSETTO:-0400
TZNAME:EDT
DTSTART:20160313T070000
END:DAYLIGHT
BEGIN:STANDARD
TZOFFSETFROM:-0400
TZOFFSETTO:-0500
TZNAME:EST
DTSTART:20161106T060000
END:STANDARD
END:VTIMEZONE
BEGIN:VEVENT
DTSTART;TZID=America/New_York:20160827T090000
DTEND;TZID=America/New_York:20160827T110000
DTSTAMP:20210512T023859
CREATED:20160827T130000Z
LAST-MODIFIED:20191201T143319Z
UID:409652-1472288400-1472295600@www.patriotguard.org
SUMMARY:Harland W. Kepple\, USA Veteran / Des Plaines
DESCRIPTION:PFC Harland William Kepple\nUS Army Veteran\nDesPlaines\, IL\n27 AUG 16\n\n\nPFC  Kepple proudly served our country\, Stateside\, during The Korean  Conflict. His tour ended prematurely due to a medical discharge. After  his commitment he raised a family\, became a proud Amvets and American  Legion Member. He had great respect for The Patriot guard as his  granddaughter and her husband are Arizona Patriot Guard members. It was  his wish that he would receive our honor.  \nPlease join us as we honor this Soldier’s wish. \nLOCATION:\nGood Shepherd Lutheran Church  \n1177 Howard Ave \nDes Plaines\, IL\n\nSTAGE and BRIEF:\n0830hrs 8:30am \nAfter a brief family time and Funeral service we will escort to:\nIrving Park Cemetery \n7777 West Irving Park Road\nChicago\, IL\n\nRC: Bridget Krupa 708 368-3907
URL:https://www.patriotguard.org/mission/harland-w-kepple-usa-veteran-des-plaines/
CATEGORIES:Archive
END:VEVENT
END:VCALENDAR