BEGIN:VCALENDAR
VERSION:2.0
PRODID:-//Patriot Guard Riders - ECPv5.6.0//NONSGML v1.0//EN
CALSCALE:GREGORIAN
METHOD:PUBLISH
X-WR-CALNAME:Patriot Guard Riders
X-ORIGINAL-URL:https://www.patriotguard.org
X-WR-CALDESC:Events for Patriot Guard Riders
BEGIN:VTIMEZONE
TZID:America/New_York
BEGIN:DAYLIGHT
TZOFFSETFROM:-0500
TZOFFSETTO:-0400
TZNAME:EDT
DTSTART:20160313T070000
END:DAYLIGHT
BEGIN:STANDARD
TZOFFSETFROM:-0400
TZOFFSETTO:-0500
TZNAME:EST
DTSTART:20161106T060000
END:STANDARD
END:VTIMEZONE
BEGIN:VEVENT
DTSTART;TZID=America/New_York:20160713T090000
DTEND;TZID=America/New_York:20160713T110000
DTSTAMP:20210512T210151
CREATED:20160713T130000Z
LAST-MODIFIED:20191201T144351Z
UID:410630-1468400400-1468407600@www.patriotguard.org
SUMMARY:Harlan J. Gann\, Sr.\, USAF
DESCRIPTION:The family of US Air Force Vietnam War Veteran SSgt Harlan James Gann\, Sr. has asked the Patriot Guard Riders to stand a flag line at his funeral service scheduled for Wednesday\, 13 July 2016 at 1000 hours at the Trinity United Methodist Church\, 1601 E Shawntel Smith Blvd (US64)\, Muldrow\, OK. Upon conclusion of the funeral service the PGR will escort this Hero and his family to Akins Cemetery about 13 miles NW of Muldrow. The USAF will conduct Military Honors. \nDate:  Wednesday\, 13 July 2016 at 1000 Hours\n\nStaging:  0900 Hours\nTrinity United Methodist Church\n1601 E Shawntel Smith Blvd (US64)\nMuldrow\, OK \nMandatory Briefing:  0915 Hours\nYou MUST attend the briefing to ride in the escort. \nFlag Line:  0930 Hours \nWeather:  Temperature in the mid 90s and mostly sunny during the mission. Remember to Hydrate!\n\nRCIC:\nMorris “Pike Pass” Noftsger\nmorrisnoftsger@yahoo.com\n918.261.1197
URL:https://www.patriotguard.org/mission/harlan-j-gann-sr-usaf/
CATEGORIES:Archive
END:VEVENT
END:VCALENDAR