BEGIN:VCALENDAR
VERSION:2.0
PRODID:-//Patriot Guard Riders - ECPv5.6.0//NONSGML v1.0//EN
CALSCALE:GREGORIAN
METHOD:PUBLISH
X-WR-CALNAME:Patriot Guard Riders
X-ORIGINAL-URL:https://www.patriotguard.org
X-WR-CALDESC:Events for Patriot Guard Riders
BEGIN:VTIMEZONE
TZID:America/New_York
BEGIN:DAYLIGHT
TZOFFSETFROM:-0500
TZOFFSETTO:-0400
TZNAME:EDT
DTSTART:20160313T070000
END:DAYLIGHT
BEGIN:STANDARD
TZOFFSETFROM:-0400
TZOFFSETTO:-0500
TZNAME:EST
DTSTART:20161106T060000
END:STANDARD
END:VTIMEZONE
BEGIN:VEVENT
DTSTART;TZID=America/New_York:20160821T090000
DTEND;TZID=America/New_York:20160821T110000
DTSTAMP:20210512T025057
CREATED:20160821T130000Z
LAST-MODIFIED:20191201T143453Z
UID:409797-1471770000-1471777200@www.patriotguard.org
SUMMARY:H. David McCoy\, USN
DESCRIPTION:HN H. David McCoy\nUS Navy Vietnam Veteran\nEnid\, OK\n21 August 2016\n\n\n\nThe family of HN H. David McCoy\, US Navy has requested the assistance of the PGR in celebrating the life of their fallen hero on Sunday\, 21 August 2016.  The celebration will be held at the Briggs Auditorium located at the corner of E. Maine St. and University Blvd. in Enid Oklahoma at 1400hrs (2pm). This mission will only be a Flag and Respect Line at this time. \nDate: Sunday\, 21 August 2016 \nStaging: 1300hrs (1:00pm) \nWest side of Brigg Auditorium located at the Intersection of E. Main & University Blvd. \nMandatory Briefing: 1315hrs (1:15hrs) \nALL RIDERS MUST ATTEND BRIEFING IF RIDING IN ESCORT \nKSU: N/A \nWeather: Sunny Temps: Mid 80’s Precipitation: 0% Humidity: 48% Wind: 9mph \nNotes: THIS IS A FLAG AND RESPECT LINE MISSION ONLY…… \nContact:\nDon “Bulldog” Eck\, SRC\noklahomavet@gmail.com
URL:https://www.patriotguard.org/mission/h-david-mccoy-usn/
CATEGORIES:Archive
END:VEVENT
END:VCALENDAR