BEGIN:VCALENDAR
VERSION:2.0
PRODID:-//Patriot Guard Riders - ECPv5.6.0//NONSGML v1.0//EN
CALSCALE:GREGORIAN
METHOD:PUBLISH
X-WR-CALNAME:Patriot Guard Riders
X-ORIGINAL-URL:https://www.patriotguard.org
X-WR-CALDESC:Events for Patriot Guard Riders
BEGIN:VTIMEZONE
TZID:America/New_York
BEGIN:DAYLIGHT
TZOFFSETFROM:-0500
TZOFFSETTO:-0400
TZNAME:EDT
DTSTART:20160313T070000
END:DAYLIGHT
BEGIN:STANDARD
TZOFFSETFROM:-0400
TZOFFSETTO:-0500
TZNAME:EST
DTSTART:20161106T060000
END:STANDARD
END:VTIMEZONE
BEGIN:VEVENT
DTSTART;TZID=America/New_York:20160807T090000
DTEND;TZID=America/New_York:20160807T110000
DTSTAMP:20210511T194107
CREATED:20160807T130000Z
LAST-MODIFIED:20191201T143746Z
UID:410070-1470560400-1470567600@www.patriotguard.org
SUMMARY:GySgt Hubert Purdy\, USMC(RET)
DESCRIPTION:Gunnery Sgt Hubert Purdy\nRetired USMC / LEO\nMonroe\, LA  08-07-2016 \n\n\nThis mission was requested by one of the Chaplins  from the Monroe War Veterans Home. I was informed that this Marine has little to no family\, So his fellow Veterans and PGR brothers will be there for him. He served 20 years in the Marine Corps and after retirement he became a police officer. \n\nPRIMARY STAGING INFO – 08-07-2016:\n  Location:\nKilpatric Funeral Home Monroe\n1200 Lamy Lane\nMonroe\, LA\n\n Staging Time:\n4:30 P.M. \n  Special Instructions:\nWe will stand flag line for this American hero from 5 to 7 PM for visitation. \nRCIC:\nJules Chauvin – jules@jktelecomllc.com\n\nAssisting RCs: \n    Flags will be provided.\nLarge bike flags will be needed. \nWeather: \nPartly sunny 90 degrees 10 perfect chance of rain HOT \nStage Two INFO – 08-09-2016:\n  Location:\nNortheast Louisiana Veteran’s Cemetery\n2413 US Hwy 425.South (about 2 miles south of Interstate-20)\nRayville La. \n  Staging Time:\n9:30 A.M. \n  Special Instructions:\nWe will meet at the Cemetery and stand flag line during the interment service. Interment starts at 10:00 AM. \nRCIC:\nJules Chauvin – jules@jktelecomllc.com \n  Assisting RCs: \n    Flags will be provided.\nLarge bike flags will NOT be needed. \nWeather: \n94 degrees clouds no sun with a thunderstorm.
URL:https://www.patriotguard.org/mission/gysgt-hubert-purdy-usmcret/
CATEGORIES:Archive
END:VEVENT
END:VCALENDAR