BEGIN:VCALENDAR
VERSION:2.0
PRODID:-//Patriot Guard Riders - ECPv5.6.0//NONSGML v1.0//EN
CALSCALE:GREGORIAN
METHOD:PUBLISH
X-WR-CALNAME:Patriot Guard Riders
X-ORIGINAL-URL:https://www.patriotguard.org
X-WR-CALDESC:Events for Patriot Guard Riders
BEGIN:VTIMEZONE
TZID:America/New_York
BEGIN:DAYLIGHT
TZOFFSETFROM:-0500
TZOFFSETTO:-0400
TZNAME:EDT
DTSTART:20160313T070000
END:DAYLIGHT
BEGIN:STANDARD
TZOFFSETFROM:-0400
TZOFFSETTO:-0500
TZNAME:EST
DTSTART:20161106T060000
END:STANDARD
END:VTIMEZONE
BEGIN:VEVENT
DTSTART;TZID=America/New_York:20160722T090000
DTEND;TZID=America/New_York:20160722T110000
DTSTAMP:20210512T170912
CREATED:20160722T130000Z
LAST-MODIFIED:20191201T144210Z
UID:410474-1469178000-1469185200@www.patriotguard.org
SUMMARY:GySgt Drew Cutler\, USMC\, Vietnam - USMCR(RET) / Duncan
DESCRIPTION:The family of US Marine Corp\, Vietnam Veteran\, Gunnery Sargent Drew  Cutler has asked the PGR to stand in honor of their fallen hero.\n\n \n\n E 7 Drew Cutler began his Marine Corp. active duty November 5\, 1970  in Los Angeles\, Ca. and completed his active duty in January 5\, 1984.  He entered the US Marine Corp. Reserves in March 28\, 1984 and retired in  March 27\, 1994.  \n \n\n GySgt Drew Cutler was an Aviation Supply Clerk.He  received the Rifle Marksmanship Badge\, Pistol Marksmanship Badge\,  National Defense Service Medal( w/1 star)\, Good Conduct Medal( 6th  award)\, Vietnam Service Medal\, Vietnam  Campaign Medal( w/ 1960 device)\, Sea Service Deployment Ribbon( 2nd  award) and Meritorious Unit Commendation. \n \n\n Services will be July 22\, 2016\, 11am\, at Bailes-Polk funeral home\, 910 W. Oak Ave\, Duncan\, OK.  \n \n\n 21 flags will be  displayed at Bailes-Polk funeral home prior to 11 o’clock service and  also at Fort Sill National Cemetery in Elgin\, OK. \n \n\n GySgt Drew Cutler will be transported in the PGR Coach at the families request. \n \n\n US Marine Honor Guard and Stephens County Honor Guard will perform military honors at Fort Sill National Cemetery.  \n \n\n Due to the heat  index for Friday\, the funeral home director suggested PGR not have to  stand in heat from 10:30 to 12:45 at funeral home. Therefore\, I’m  setting staging time at 12:15 hrs at the funeral home.\n \n\n Date: July 22\, 2016 \n \n Staging: 12:15 hrs.\n Bailes-Polk funeral home \n 910 W. Oak Ave \n Duncan\, OK\n \n Mandatory Briefing – 12:30 hrs.\n Must attend briefing to ride escort\n \n\n KSU: 12:45 hrs.\n \n\n Weather:  Sunny\, 100 degrees – hydrate- hydrate\n \n\n RCIC:\n Jerry ” Shepard ” Wilson \n 580-467-4648 \n jerryw_46@yahoo.com
URL:https://www.patriotguard.org/mission/gysgt-drew-cutler-usmc-vietnam-usmcrret-duncan/
CATEGORIES:Archive
END:VEVENT
END:VCALENDAR